BEGIN:VCALENDAR
VERSION:2.0
PRODID:-//Focus Coworking - Jefferson, WI - ECPv6.15.20//NONSGML v1.0//EN
CALSCALE:GREGORIAN
METHOD:PUBLISH
X-ORIGINAL-URL:https://focuscoworking.com
X-WR-CALDESC:Events for Focus Coworking - Jefferson, WI
REFRESH-INTERVAL;VALUE=DURATION:PT1H
X-Robots-Tag:noindex
X-PUBLISHED-TTL:PT1H
BEGIN:VTIMEZONE
TZID:America/Chicago
BEGIN:DAYLIGHT
TZOFFSETFROM:-0600
TZOFFSETTO:-0500
TZNAME:CDT
DTSTART:20250309T080000
END:DAYLIGHT
BEGIN:STANDARD
TZOFFSETFROM:-0500
TZOFFSETTO:-0600
TZNAME:CST
DTSTART:20251102T070000
END:STANDARD
BEGIN:DAYLIGHT
TZOFFSETFROM:-0600
TZOFFSETTO:-0500
TZNAME:CDT
DTSTART:20260308T080000
END:DAYLIGHT
BEGIN:STANDARD
TZOFFSETFROM:-0500
TZOFFSETTO:-0600
TZNAME:CST
DTSTART:20261101T070000
END:STANDARD
BEGIN:DAYLIGHT
TZOFFSETFROM:-0600
TZOFFSETTO:-0500
TZNAME:CDT
DTSTART:20270314T080000
END:DAYLIGHT
BEGIN:STANDARD
TZOFFSETFROM:-0500
TZOFFSETTO:-0600
TZNAME:CST
DTSTART:20271107T070000
END:STANDARD
END:VTIMEZONE
BEGIN:VEVENT
DTSTART;TZID=America/Chicago:20260701T073000
DTEND;TZID=America/Chicago:20260701T083000
DTSTAMP:20260421T095000
CREATED:20251201T180059Z
LAST-MODIFIED:20251201T180108Z
UID:1869-1782891000-1782894600@focuscoworking.com
SUMMARY:FOCUS Mastermind
DESCRIPTION:Join the FOCUS Mastermind\, a supportive\, goal-oriented group that meets on the first Wednesday of every month from 7:30 am to 8:30 am. Whether you’re thinking of starting a business\, looking to grow your existing business\, or simply want to achieve personal goals\, this mastermind offers a space to set clear objectives\, receive valuable feedback\, and stay accountable. You’ll connect with like-minded individuals\, share insights\, and solve challenges together. The group is primarily business-focused\, but anyone with goals is welcome. Come ready to FOCUS\, grow\, and achieve success! The mastermind is free and open to anyone wanting to achieve their goals. \nThe mastermind meets on Zoom the first Wedneday of each month from 7:30 am to 8:30 am. Fill in the form below to receive the Zoom meeting information. \n\n\n\n                \n                        \n                            FOCUS Mastermind Signup\n                             \n                        					\n						Δ\n						\n						\n\n					\n                        Name(Required)\n                            \n                            \n                                                    \n                                                    First\n                                                \n                            \n                            \n                                                    \n                                                    Last\n                                                \n                            \n                        Email(Required)
URL:https://focuscoworking.com/event/focus-mastermind-july-2026/
LOCATION:FOCUS Coworking\, 148 E Milwaukee St.\, Jefferson\, WI\, 53549\, United States
ATTACH;FMTTYPE=image/jpeg:https://focuscoworking.com/wp-content/uploads/2025/04/focus-mastermind-participants-on-zoom.avif
ORGANIZER;CN="FOCUS Coworking":MAILTO:hello@focuscoworking.com
END:VEVENT
BEGIN:VEVENT
DTSTART;TZID=America/Chicago:20260715T180000
DTEND;TZID=America/Chicago:20260715T200000
DTSTAMP:20260421T095000
CREATED:20260201T195927Z
LAST-MODIFIED:20260201T200141Z
UID:1930-1784138400-1784145600@focuscoworking.com
SUMMARY:Margaritas & Mindset: A Business Owner Meetup
DESCRIPTION:Join FOCUS Coworking on Tuesday\, July 15th at 6:00 pm at Playa Vallarta in Jefferson for a relaxed evening designed just for entrepreneurs and business owners. \nRunning a business can feel isolating. Many owners spend most of their time working in their business and rarely get the chance to step back\, connect with others who truly understand the challenges\, and talk things through. This event creates that space. \nGrab a margarita\, pull up a chair\, and be part of a supportive conversation where you can share what is going on in your business\, swap ideas\, ask questions\, and learn from others who are walking a similar path. There is no agenda\, no pressure\, just honest conversation and community. \nWhether you are celebrating wins\, navigating challenges\, or simply looking to connect with other local business owners\, you are welcome here. \nOpen to entrepreneurs and business owners at any stage. Come as you are and join the conversation.
URL:https://focuscoworking.com/event/margaritas-mindset-a-business-owner-meetup/
LOCATION:Playa Vallarta Mexican Grill\, 216 Golf Dr\, Jefferson\, WI\, 53549\, United States
ATTACH;FMTTYPE=image/jpeg:https://focuscoworking.com/wp-content/uploads/2026/02/margarita-e1769976062694.avif
ORGANIZER;CN="FOCUS Coworking":MAILTO:hello@focuscoworking.com
END:VEVENT
END:VCALENDAR