BEGIN:VCALENDAR
VERSION:2.0
PRODID:-//Focus Coworking - Jefferson, WI - ECPv6.15.20//NONSGML v1.0//EN
CALSCALE:GREGORIAN
METHOD:PUBLISH
X-ORIGINAL-URL:https://focuscoworking.com
X-WR-CALDESC:Events for Focus Coworking - Jefferson, WI
REFRESH-INTERVAL;VALUE=DURATION:PT1H
X-Robots-Tag:noindex
X-PUBLISHED-TTL:PT1H
BEGIN:VTIMEZONE
TZID:America/Chicago
BEGIN:DAYLIGHT
TZOFFSETFROM:-0600
TZOFFSETTO:-0500
TZNAME:CDT
DTSTART:20250309T080000
END:DAYLIGHT
BEGIN:STANDARD
TZOFFSETFROM:-0500
TZOFFSETTO:-0600
TZNAME:CST
DTSTART:20251102T070000
END:STANDARD
BEGIN:DAYLIGHT
TZOFFSETFROM:-0600
TZOFFSETTO:-0500
TZNAME:CDT
DTSTART:20260308T080000
END:DAYLIGHT
BEGIN:STANDARD
TZOFFSETFROM:-0500
TZOFFSETTO:-0600
TZNAME:CST
DTSTART:20261101T070000
END:STANDARD
BEGIN:DAYLIGHT
TZOFFSETFROM:-0600
TZOFFSETTO:-0500
TZNAME:CDT
DTSTART:20270314T080000
END:DAYLIGHT
BEGIN:STANDARD
TZOFFSETFROM:-0500
TZOFFSETTO:-0600
TZNAME:CST
DTSTART:20271107T070000
END:STANDARD
END:VTIMEZONE
BEGIN:VEVENT
DTSTART;TZID=America/Chicago:20260304T073000
DTEND;TZID=America/Chicago:20260304T083000
DTSTAMP:20260421T062425
CREATED:20251201T175803Z
LAST-MODIFIED:20251201T175819Z
UID:1861-1772609400-1772613000@focuscoworking.com
SUMMARY:FOCUS Mastermind
DESCRIPTION:Join the FOCUS Mastermind\, a supportive\, goal-oriented group that meets on the first Wednesday of every month from 7:30 am to 8:30 am. Whether you’re thinking of starting a business\, looking to grow your existing business\, or simply want to achieve personal goals\, this mastermind offers a space to set clear objectives\, receive valuable feedback\, and stay accountable. You’ll connect with like-minded individuals\, share insights\, and solve challenges together. The group is primarily business-focused\, but anyone with goals is welcome. Come ready to FOCUS\, grow\, and achieve success! The mastermind is free and open to anyone wanting to achieve their goals. \nThe mastermind meets on Zoom the first Wedneday of each month from 7:30 am to 8:30 am. Fill in the form below to receive the Zoom meeting information. \n\n\n\n                \n                        \n                            FOCUS Mastermind Signup\n                             \n                        					\n						Δ\n						\n						\n\n					\n                        Name(Required)\n                            \n                            \n                                                    \n                                                    First\n                                                \n                            \n                            \n                                                    \n                                                    Last\n                                                \n                            \n                        Email(Required)
URL:https://focuscoworking.com/event/focus-mastermind-march-2026/
LOCATION:FOCUS Coworking\, 148 E Milwaukee St.\, Jefferson\, WI\, 53549\, United States
ATTACH;FMTTYPE=image/jpeg:https://focuscoworking.com/wp-content/uploads/2025/04/focus-mastermind-participants-on-zoom.avif
ORGANIZER;CN="FOCUS Coworking":MAILTO:hello@focuscoworking.com
END:VEVENT
BEGIN:VEVENT
DTSTART;TZID=America/Chicago:20260311T180000
DTEND;TZID=America/Chicago:20260311T190000
DTSTAMP:20260421T062425
CREATED:20260201T171941Z
LAST-MODIFIED:20260308T154643Z
UID:1909-1773252000-1773255600@focuscoworking.com
SUMMARY:CANCELLED – Business 101 Q&A Panel
DESCRIPTION:We regret to announce that the Business 101 Q&A Panel scheduled for March 11th has been cancelled. Due to unexpected staffing changes and capacity challenges on our end\, we are unable to host this event as planned. \nWe sincerely apologize for any inconvenience\, and we truly appreciate your interest and support. This is a conversation we still believe in\, and we hope to bring it back when the timing is right. \nStay connected with us for future events — we look forward to seeing you then. \n  \n\nThinking about starting a business or already running one and still figuring things out? Join us on March 11th for a Business 101 Q&A Panel designed to meet you exactly where you are. \nThis interactive event brings together both experienced and newer entrepreneurs who are willing to share real stories\, lessons learned\, and practical advice. Ask the questions you have been wondering about\, learn from others who have been there\, and connect with people who understand the challenges and rewards of entrepreneurship. \nWhether you are just exploring the idea of starting a business or have been running one for years\, this is a chance to learn something new. Entrepreneurship is a constant learning process\, and this conversation is open to anyone curious\, growing\, or looking for a fresh perspective. \nOpen to the public. Come ready to listen\, ask questions\, and learn from fellow entrepreneurs.
URL:https://focuscoworking.com/event/business-101-qa-panel/
LOCATION:Tan A Latte\, 122 S Main St\, Jefferson\, WI\, 53549\, United States
ATTACH;FMTTYPE=image/png:https://focuscoworking.com/wp-content/uploads/2026/02/Business-101-Facebook-Event-Photo.avif
END:VEVENT
END:VCALENDAR