BEGIN:VCALENDAR
VERSION:2.0
PRODID:-//Focus Coworking - Jefferson, WI - ECPv6.15.20//NONSGML v1.0//EN
CALSCALE:GREGORIAN
METHOD:PUBLISH
X-ORIGINAL-URL:https://focuscoworking.com
X-WR-CALDESC:Events for Focus Coworking - Jefferson, WI
REFRESH-INTERVAL;VALUE=DURATION:PT1H
X-Robots-Tag:noindex
X-PUBLISHED-TTL:PT1H
BEGIN:VTIMEZONE
TZID:America/Chicago
BEGIN:DAYLIGHT
TZOFFSETFROM:-0600
TZOFFSETTO:-0500
TZNAME:CDT
DTSTART:20250309T080000
END:DAYLIGHT
BEGIN:STANDARD
TZOFFSETFROM:-0500
TZOFFSETTO:-0600
TZNAME:CST
DTSTART:20251102T070000
END:STANDARD
BEGIN:DAYLIGHT
TZOFFSETFROM:-0600
TZOFFSETTO:-0500
TZNAME:CDT
DTSTART:20260308T080000
END:DAYLIGHT
BEGIN:STANDARD
TZOFFSETFROM:-0500
TZOFFSETTO:-0600
TZNAME:CST
DTSTART:20261101T070000
END:STANDARD
BEGIN:DAYLIGHT
TZOFFSETFROM:-0600
TZOFFSETTO:-0500
TZNAME:CDT
DTSTART:20270314T080000
END:DAYLIGHT
BEGIN:STANDARD
TZOFFSETFROM:-0500
TZOFFSETTO:-0600
TZNAME:CST
DTSTART:20271107T070000
END:STANDARD
END:VTIMEZONE
BEGIN:VEVENT
DTSTART;TZID=America/Chicago:20260107T073000
DTEND;TZID=America/Chicago:20260107T083000
DTSTAMP:20260421T094249
CREATED:20251201T175552Z
LAST-MODIFIED:20251201T175552Z
UID:1857-1767771000-1767774600@focuscoworking.com
SUMMARY:FOCUS Mastermind
DESCRIPTION:Join the FOCUS Mastermind\, a supportive\, goal-oriented group that meets on the first Wednesday of every month from 7:30 am to 8:30 am. Whether you’re thinking of starting a business\, looking to grow your existing business\, or simply want to achieve personal goals\, this mastermind offers a space to set clear objectives\, receive valuable feedback\, and stay accountable. You’ll connect with like-minded individuals\, share insights\, and solve challenges together. The group is primarily business-focused\, but anyone with goals is welcome. Come ready to FOCUS\, grow\, and achieve success! The mastermind is free and open to anyone wanting to achieve their goals. \nThe mastermind meets on Zoom the first Wedneday of each month from 7:30 am to 8:30 am. Fill in the form below to receive the Zoom meeting information. \n\n\n\n                \n                        \n                            FOCUS Mastermind Signup\n                             \n                        					\n						Δ\n						\n						\n\n					\n                        Name(Required)\n                            \n                            \n                                                    \n                                                    First\n                                                \n                            \n                            \n                                                    \n                                                    Last\n                                                \n                            \n                        Email(Required)
URL:https://focuscoworking.com/event/focus-mastermind-january-2026/
LOCATION:FOCUS Coworking\, 148 E Milwaukee St.\, Jefferson\, WI\, 53549\, United States
ATTACH;FMTTYPE=image/jpeg:https://focuscoworking.com/wp-content/uploads/2025/04/focus-mastermind-participants-on-zoom.avif
ORGANIZER;CN="FOCUS Coworking":MAILTO:hello@focuscoworking.com
END:VEVENT
BEGIN:VEVENT
DTSTART;TZID=America/Chicago:20260114T180000
DTEND;TZID=America/Chicago:20260114T190000
DTSTAMP:20260421T094249
CREATED:20251204T130625Z
LAST-MODIFIED:20251204T131013Z
UID:1885-1768413600-1768417200@focuscoworking.com
SUMMARY:Boost Your Productivity with AI
DESCRIPTION:Learn how AI can help you streamline tasks\, spark new ideas\, and level up the way you work. We’ll cover popular AI tools\, common ways businesses use them\, and simple steps to get started. You’ll also have time to ask questions and see examples. Perfect for anyone who wants to stay ahead of the curve. \nThis event is free and open to the public.
URL:https://focuscoworking.com/event/boost-your-productivity-with-ai/
LOCATION:FOCUS Coworking\, 148 E Milwaukee St.\, Jefferson\, WI\, 53549\, United States
CATEGORIES:Public Events
ATTACH;FMTTYPE=image/jpeg:https://focuscoworking.com/wp-content/uploads/2025/12/PXL_20241110_171639945.MP_-scaled.avif
ORGANIZER;CN="FOCUS Coworking":MAILTO:hello@focuscoworking.com
END:VEVENT
END:VCALENDAR