BEGIN:VCALENDAR
VERSION:2.0
PRODID:-//Focus Coworking - Jefferson, WI - ECPv6.15.20//NONSGML v1.0//EN
CALSCALE:GREGORIAN
METHOD:PUBLISH
X-ORIGINAL-URL:https://focuscoworking.com
X-WR-CALDESC:Events for Focus Coworking - Jefferson, WI
REFRESH-INTERVAL;VALUE=DURATION:PT1H
X-Robots-Tag:noindex
X-PUBLISHED-TTL:PT1H
BEGIN:VTIMEZONE
TZID:America/Chicago
BEGIN:DAYLIGHT
TZOFFSETFROM:-0600
TZOFFSETTO:-0500
TZNAME:CDT
DTSTART:20240310T080000
END:DAYLIGHT
BEGIN:STANDARD
TZOFFSETFROM:-0500
TZOFFSETTO:-0600
TZNAME:CST
DTSTART:20241103T070000
END:STANDARD
BEGIN:DAYLIGHT
TZOFFSETFROM:-0600
TZOFFSETTO:-0500
TZNAME:CDT
DTSTART:20250309T080000
END:DAYLIGHT
BEGIN:STANDARD
TZOFFSETFROM:-0500
TZOFFSETTO:-0600
TZNAME:CST
DTSTART:20251102T070000
END:STANDARD
BEGIN:DAYLIGHT
TZOFFSETFROM:-0600
TZOFFSETTO:-0500
TZNAME:CDT
DTSTART:20260308T080000
END:DAYLIGHT
BEGIN:STANDARD
TZOFFSETFROM:-0500
TZOFFSETTO:-0600
TZNAME:CST
DTSTART:20261101T070000
END:STANDARD
END:VTIMEZONE
BEGIN:VEVENT
DTSTART;TZID=America/Chicago:20251203T073000
DTEND;TZID=America/Chicago:20251203T083000
DTSTAMP:20260421T111744
CREATED:20250414T124628Z
LAST-MODIFIED:20251112T142744Z
UID:1724-1764747000-1764750600@focuscoworking.com
SUMMARY:FOCUS Mastermind
DESCRIPTION:Join the FOCUS Mastermind\, a supportive\, goal-oriented group that meets on the first Wednesday of every month from 7:30 am to 8:30 am. Whether you’re thinking of starting a business\, looking to grow your existing business\, or simply want to achieve personal goals\, this mastermind offers a space to set clear objectives\, receive valuable feedback\, and stay accountable. You’ll connect with like-minded individuals\, share insights\, and solve challenges together. The group is primarily business-focused\, but anyone with goals is welcome. Come ready to FOCUS\, grow\, and achieve success! The mastermind is free and open to anyone wanting to achieve their goals. \nThe mastermind meets on Zoom the first Wedneday of each month from 7:30 am to 8:30 am. Fill in the form below to receive the Zoom meeting information. \n\n\n\n                \n                        \n                            FOCUS Mastermind Signup\n                             \n                        					\n						Δ\n						\n						\n\n					\n                        Name(Required)\n                            \n                            \n                                                    \n                                                    First\n                                                \n                            \n                            \n                                                    \n                                                    Last\n                                                \n                            \n                        Email(Required)
URL:https://focuscoworking.com/event/focus-mastermind-12-2025/
LOCATION:FOCUS Coworking\, 148 E Milwaukee St.\, Jefferson\, WI\, 53549\, United States
ATTACH;FMTTYPE=image/jpeg:https://focuscoworking.com/wp-content/uploads/2025/04/focus-mastermind-participants-on-zoom.avif
ORGANIZER;CN="FOCUS Coworking":MAILTO:hello@focuscoworking.com
END:VEVENT
BEGIN:VEVENT
DTSTART;TZID=America/Chicago:20251211T180000
DTEND;TZID=America/Chicago:20251211T193000
DTSTAMP:20260421T111744
CREATED:20250430T175510Z
LAST-MODIFIED:20251112T142508Z
UID:1750-1765476000-1765481400@focuscoworking.com
SUMMARY:FOCUS Ugly Sweater Party
DESCRIPTION:Celebrate the season in style—your worst style! \nGet ready to eat\, drink\, mingle\, and be tacky! Join us for the FOCUS Ugly Sweater Party—a cheerful evening filled with holiday food\, festive beverages\, great company\, and plenty of laughs. Don your most outrageous holiday sweater for a chance to win the coveted title of Ugliest Sweater Champion! \nThis event is free and open to the public\, so bring a friend (and their worst sweater too)! Whether you’re a FOCUS member or just want to get into the holiday spirit\, you’re welcome to join the fun. \n📅 Date: Thursday\, December 11\, 2025 \n🕕 Time: 6:00 pm – 7:30 pm \n📍 Location: FOCUS Coworking\, 148 E Milwaukee St.\, Jefferson\, WI \n🎉 Ugly Sweater Contest | 🥪 Holiday Snacks | 🍷 Festive Drinks | 🤝 Networking \n🎁 Free and Open to the Public \nNo RSVP required—just show up ready to party and sparkle (or clash) in the spirit of the season!
URL:https://focuscoworking.com/event/focus-ugly-sweater-party/
LOCATION:FOCUS Coworking\, 148 E Milwaukee St.\, Jefferson\, WI\, 53549\, United States
CATEGORIES:Public Events
ATTACH;FMTTYPE=image/png:https://focuscoworking.com/wp-content/uploads/2025/04/Dark-Blue-Red-Green-Funny-Illustration-Ugly-Christmas-Sweater-Party-Flyer-Facebook-Post.avif
ORGANIZER;CN="FOCUS Coworking":MAILTO:hello@focuscoworking.com
END:VEVENT
END:VCALENDAR