BEGIN:VCALENDAR
VERSION:2.0
PRODID:-//Focus Coworking - Jefferson, WI - ECPv6.15.20//NONSGML v1.0//EN
CALSCALE:GREGORIAN
METHOD:PUBLISH
X-WR-CALNAME:Focus Coworking - Jefferson, WI
X-ORIGINAL-URL:https://focuscoworking.com
X-WR-CALDESC:Events for Focus Coworking - Jefferson, WI
REFRESH-INTERVAL;VALUE=DURATION:PT1H
X-Robots-Tag:noindex
X-PUBLISHED-TTL:PT1H
BEGIN:VTIMEZONE
TZID:America/Chicago
BEGIN:DAYLIGHT
TZOFFSETFROM:-0600
TZOFFSETTO:-0500
TZNAME:CDT
DTSTART:20240310T080000
END:DAYLIGHT
BEGIN:STANDARD
TZOFFSETFROM:-0500
TZOFFSETTO:-0600
TZNAME:CST
DTSTART:20241103T070000
END:STANDARD
BEGIN:DAYLIGHT
TZOFFSETFROM:-0600
TZOFFSETTO:-0500
TZNAME:CDT
DTSTART:20250309T080000
END:DAYLIGHT
BEGIN:STANDARD
TZOFFSETFROM:-0500
TZOFFSETTO:-0600
TZNAME:CST
DTSTART:20251102T070000
END:STANDARD
BEGIN:DAYLIGHT
TZOFFSETFROM:-0600
TZOFFSETTO:-0500
TZNAME:CDT
DTSTART:20260308T080000
END:DAYLIGHT
BEGIN:STANDARD
TZOFFSETFROM:-0500
TZOFFSETTO:-0600
TZNAME:CST
DTSTART:20261101T070000
END:STANDARD
END:VTIMEZONE
BEGIN:VEVENT
DTSTART;TZID=America/Chicago:20250903T073000
DTEND;TZID=America/Chicago:20250903T083000
DTSTAMP:20260421T172751
CREATED:20250414T124524Z
LAST-MODIFIED:20250414T124524Z
UID:1718-1756884600-1756888200@focuscoworking.com
SUMMARY:FOCUS Mastermind
DESCRIPTION:Join the FOCUS Mastermind\, a supportive\, goal-oriented group that meets on the first Wednesday of every month from 7:30 am to 8:30 am. Whether you’re thinking of starting a business\, looking to grow your existing business\, or simply want to achieve personal goals\, this mastermind offers a space to set clear objectives\, receive valuable feedback\, and stay accountable. You’ll connect with like-minded individuals\, share insights\, and solve challenges together. The group is primarily business-focused\, but anyone with goals is welcome. Come ready to FOCUS\, grow\, and achieve success! The mastermind is free and open to anyone wanting to achieve their goals. \nThe mastermind meets on Zoom the first Wedneday of each month from 7:30 am to 8:30 am. Fill in the form below to receive the Zoom meeting information. \n\n\n\n                \n                        \n                            FOCUS Mastermind Signup\n                             \n                        					\n						Δ\n						\n						\n\n					\n                        Name(Required)\n                            \n                            \n                                                    \n                                                    First\n                                                \n                            \n                            \n                                                    \n                                                    Last\n                                                \n                            \n                        Email(Required)
URL:https://focuscoworking.com/event/focus-mastermind-09-2025/
LOCATION:FOCUS Coworking\, 148 E Milwaukee St.\, Jefferson\, WI\, 53549\, United States
ORGANIZER;CN="FOCUS Coworking":MAILTO:hello@focuscoworking.com
END:VEVENT
BEGIN:VEVENT
DTSTART;TZID=America/Chicago:20250905T170000
DTEND;TZID=America/Chicago:20250905T200000
DTSTAMP:20260421T172751
CREATED:20250522T175115Z
LAST-MODIFIED:20250522T175115Z
UID:1773-1757091600-1757102400@focuscoworking.com
SUMMARY:First Fridays Vendor Fair at FOCUS Coworking
DESCRIPTION:Discover something new every month in downtown Jefferson! \nAs part of the Jefferson Main Street Association’s First Fridays summer series\, FOCUS Coworking is excited to host a monthly Vendor Fair featuring local makers\, artists\, crafters\, and small businesses. It’s a fun and vibrant pop-up marketplace where the community can shop unique finds\, connect with local entrepreneurs\, and enjoy extended evening hours in our historic downtown district. \n2025 Event Dates:\n\nFriday\, June 6th\nThursday\, July 3rd (special Thursday edition.)\nFriday\, August 1st\nFriday\, September 5th\n\n\n 5:00 PM – 8:00 PM \n  \nFOCUS Coworking \n230 S Main Street\, Jefferson\, WI \n🙋‍♀️ Interested in Becoming a Vendor?\nWe’re currently accepting vendor applications! This is a great opportunity to showcase your products and connect with a supportive local audience. If you’re a small business\, artisan\, or creative entrepreneur\, we’d love to have you. The fee to be a vendor is $25 per event\, and all vendor fees will be donated to The Arts Alliance of Greater Jefferson. The vendor fee is waived for FOCUS Coworking members. \n👉 Contact us or call 920-723-8665 to learn more.
URL:https://focuscoworking.com/event/first-fridays-vendor-fair-at-focus-coworking-august-2025-2/
LOCATION:FOCUS Coworking On Main Street\, 230 S Main Street\, Jefferson\, Wisconsin\, 53549
CATEGORIES:Public Events
ATTACH;FMTTYPE=image/png:https://focuscoworking.com/wp-content/uploads/2025/05/First-Fridays-Vendor-Fair-FOCUS-Coworking.avif
ORGANIZER;CN="FOCUS Coworking":MAILTO:hello@focuscoworking.com
END:VEVENT
BEGIN:VEVENT
DTSTART;TZID=America/Chicago:20250913T090000
DTEND;TZID=America/Chicago:20250913T100000
DTSTAMP:20260421T172751
CREATED:20250430T174046Z
LAST-MODIFIED:20250430T174046Z
UID:1744-1757754000-1757757600@focuscoworking.com
SUMMARY:Join the FOCUS Team for the Pretzel Polka Walk
DESCRIPTION:Support a great cause while spending time with fellow members! \nFOCUS Coworking is forming a team for the Randy Schopen Foundation Pretzel Polka Walk on Saturday\, September 13\, 2025. This fun\, two-mile walk is part of the annual Gemuetlichkeit Days celebration and supports a meaningful local cause—The Randy Schopen Foundation grant program. \nThis is a members-only activity\, and each participant will be responsible for their own registration fee. It’s a great way to give back to the community\, get a little movement in\, and enjoy the day with other FOCUS members. \n📅 Date: Saturday\, September 13\, 2025 \n🕘 Time: 9:00 am (Check-in: 8:00–8:30 am) \n📍 Location: Jefferson County Fair Park\, 503 N Jackson Ave\, Jefferson\, WI \n🚶‍♀️ We’ll be participating in the two-mile walk \n🔒 Members Only Event  \nEvery registration includes a t-shirt\, swag\, and a drink ticket (21+). \nTo sign up and be part of the FOCUS Coworking team\, register as a walker and choose team registration if you’d like to walk together. \nLet’s show our support\, represent FOCUS\, and make a difference—together!
URL:https://focuscoworking.com/event/join-the-focus-team-for-the-pretzel-polka-walk/
LOCATION:Jefferson County Fair Park\, 503 N Jackson Ave\, Jefferson\, WI\, 53549\, United States
CATEGORIES:Members Only Events
ATTACH;FMTTYPE=image/jpeg:https://focuscoworking.com/wp-content/uploads/2025/04/randy-schopen-foundation-walk.avif
ORGANIZER;CN="FOCUS Coworking":MAILTO:hello@focuscoworking.com
END:VEVENT
BEGIN:VEVENT
DTSTART;TZID=America/Chicago:20250917T180000
DTEND;TZID=America/Chicago:20250917T193000
DTSTAMP:20260421T172751
CREATED:20250902T174042Z
LAST-MODIFIED:20250902T174042Z
UID:1834-1758132000-1758137400@focuscoworking.com
SUMMARY:How to Start Reselling on EBay: Tips\, Tricks & Hands-On Listing Workshop
DESCRIPTION:Ready to turn your clutter into cash? Join us for this interactive 90-minute reselling class where you’ll learn the basics of selling successfully on eBay—and leave with your first listings live and ready to sell!\n•First 30 minutes: We’ll cover reselling tips and tricks\, including how to choose the right items\, take quality photos\, write descriptions that sell\, and price competitively.\n•Last 60 minutes: Roll up your sleeves and get started! You’ll receive step-by-step guidance as you begin listing your own items on eBay.\n\n👉 What to bring: 5–10 items you’d like to list\, plus your smartphone or laptop to create your listings.\n\nWhether you’re looking to clean out your closet\, make some extra income\, or explore reselling as a side hustle\, this class will give you the tools and confidence to get started.
URL:https://focuscoworking.com/event/how-to-start-reselling-on-ebay-tips-tricks-hands-on-listing-workshop/
LOCATION:FOCUS Coworking\, 148 E Milwaukee St.\, Jefferson\, WI\, 53549\, United States
CATEGORIES:Public Events
ATTACH;FMTTYPE=image/jpeg:https://focuscoworking.com/wp-content/uploads/2025/09/how-to-start-reselling-on-ebay.avif
ORGANIZER;CN="FOCUS Coworking":MAILTO:hello@focuscoworking.com
END:VEVENT
END:VCALENDAR