BEGIN:VCALENDAR
VERSION:2.0
PRODID:-//Focus Coworking - Jefferson, WI - ECPv6.15.20//NONSGML v1.0//EN
CALSCALE:GREGORIAN
METHOD:PUBLISH
X-WR-CALNAME:Focus Coworking - Jefferson, WI
X-ORIGINAL-URL:https://focuscoworking.com
X-WR-CALDESC:Events for Focus Coworking - Jefferson, WI
REFRESH-INTERVAL;VALUE=DURATION:PT1H
X-Robots-Tag:noindex
X-PUBLISHED-TTL:PT1H
BEGIN:VTIMEZONE
TZID:America/Chicago
BEGIN:DAYLIGHT
TZOFFSETFROM:-0600
TZOFFSETTO:-0500
TZNAME:CDT
DTSTART:20240310T080000
END:DAYLIGHT
BEGIN:STANDARD
TZOFFSETFROM:-0500
TZOFFSETTO:-0600
TZNAME:CST
DTSTART:20241103T070000
END:STANDARD
BEGIN:DAYLIGHT
TZOFFSETFROM:-0600
TZOFFSETTO:-0500
TZNAME:CDT
DTSTART:20250309T080000
END:DAYLIGHT
BEGIN:STANDARD
TZOFFSETFROM:-0500
TZOFFSETTO:-0600
TZNAME:CST
DTSTART:20251102T070000
END:STANDARD
BEGIN:DAYLIGHT
TZOFFSETFROM:-0600
TZOFFSETTO:-0500
TZNAME:CDT
DTSTART:20260308T080000
END:DAYLIGHT
BEGIN:STANDARD
TZOFFSETFROM:-0500
TZOFFSETTO:-0600
TZNAME:CST
DTSTART:20261101T070000
END:STANDARD
END:VTIMEZONE
BEGIN:VEVENT
DTSTART;TZID=America/Chicago:20250604T073000
DTEND;TZID=America/Chicago:20250604T083000
DTSTAMP:20260421T215551
CREATED:20250414T124056Z
LAST-MODIFIED:20250414T124451Z
UID:1712-1749022200-1749025800@focuscoworking.com
SUMMARY:FOCUS Mastermind
DESCRIPTION:Join the FOCUS Mastermind\, a supportive\, goal-oriented group that meets on the first Wednesday of every month from 7:30 am to 8:30 am. Whether you’re thinking of starting a business\, looking to grow your existing business\, or simply want to achieve personal goals\, this mastermind offers a space to set clear objectives\, receive valuable feedback\, and stay accountable. You’ll connect with like-minded individuals\, share insights\, and solve challenges together. The group is primarily business-focused\, but anyone with goals is welcome. Come ready to FOCUS\, grow\, and achieve success! The mastermind is free and open to anyone wanting to achieve their goals. \nThe mastermind meets on Zoom the first Wedneday of each month from 7:30 am to 8:30 am. Fill in the form below to receive the Zoom meeting information. \n\n\n\n                \n                        \n                            FOCUS Mastermind Signup\n                             \n                        					\n						Δ\n						\n						\n\n					\n                        Name(Required)\n                            \n                            \n                                                    \n                                                    First\n                                                \n                            \n                            \n                                                    \n                                                    Last\n                                                \n                            \n                        Email(Required)
URL:https://focuscoworking.com/event/focus-mastermind-06-2025/
LOCATION:FOCUS Coworking\, 148 E Milwaukee St.\, Jefferson\, WI\, 53549\, United States
ORGANIZER;CN="FOCUS Coworking":MAILTO:hello@focuscoworking.com
END:VEVENT
BEGIN:VEVENT
DTSTART;TZID=America/Chicago:20250606T170000
DTEND;TZID=America/Chicago:20250606T200000
DTSTAMP:20260421T215551
CREATED:20250522T172411Z
LAST-MODIFIED:20250522T172411Z
UID:1764-1749229200-1749240000@focuscoworking.com
SUMMARY:First Fridays Vendor Fair at FOCUS Coworking
DESCRIPTION:Discover something new every month in downtown Jefferson! \nAs part of the Jefferson Main Street Association’s First Fridays summer series\, FOCUS Coworking is excited to host a monthly Vendor Fair featuring local makers\, artists\, crafters\, and small businesses. It’s a fun and vibrant pop-up marketplace where the community can shop unique finds\, connect with local entrepreneurs\, and enjoy extended evening hours in our historic downtown district. \n2025 Event Dates:\n\nFriday\, June 6th\n\nThursday\, July 3rd (special Thursday edition.)\n\nFriday\, August 1st\n\nFriday\, September 5th\n\n\n 5:00 PM – 8:00 PM \n \nFOCUS Coworking \n230 S Main Street\, Jefferson\, WI \n🙋‍♀️ Interested in Becoming a Vendor?\nWe’re currently accepting vendor applications! This is a great opportunity to showcase your products and connect with a supportive local audience. If you’re a small business\, artisan\, or creative entrepreneur\, we’d love to have you. The fee to be a vendor is $25 per event\, and all vendor fees will be donated to The Arts Alliance of Greater Jefferson. The vendor fee is waived for FOCUS Coworking members. \n👉 Contact us or call 920-723-8665 to learn more.
URL:https://focuscoworking.com/event/first-fridays-vendor-fair-at-focus-coworking/
LOCATION:FOCUS Coworking On Main Street\, 230 S Main Street\, Jefferson\, Wisconsin\, 53549
CATEGORIES:Public Events
ATTACH;FMTTYPE=image/png:https://focuscoworking.com/wp-content/uploads/2025/05/First-Fridays-Vendor-Fair-FOCUS-Coworking.avif
ORGANIZER;CN="FOCUS Coworking":MAILTO:hello@focuscoworking.com
END:VEVENT
BEGIN:VEVENT
DTSTART;TZID=America/Chicago:20250612T190000
DTEND;TZID=America/Chicago:20250612T210000
DTSTAMP:20260421T215551
CREATED:20250507T105105Z
LAST-MODIFIED:20250507T105105Z
UID:1756-1749754800-1749762000@focuscoworking.com
SUMMARY:FOCUS Goes To Concerts In The Park
DESCRIPTION:Country music\, summer vibes\, and great company! \nJoin FOCUS Coworking for an evening of live country music at Jefferson’s Concerts in the Park series! We’ll be gathering at Rotary Park to enjoy the sounds of The Road Crew Band\, known for their lively country tunes and feel-good energy. \nThis event is free and open to the public\, and we’re inviting all FOCUS members to join us for a relaxed evening of music and community. As a special thank-you\, FOCUS members will receive one free beverage on us! \n📅 Date: Thursday\, June 12\, 2025 \n🕖 Time: 7:00 pm – 9:00 pm \n📍 Location: Rotary Park\, Jefferson\, WI \n🎶 Featuring The Road Crew Band (Country Music) \n🍻 One Free Beverage for FOCUS Members \n🎉 Free and Open to the Public
URL:https://focuscoworking.com/event/focus-goes-to-concerts-in-the-park/
LOCATION:Rotary Park\, 301 S Gardner Ave\, Jefferson\, WI\, 53549\, United States
CATEGORIES:Public Events
ATTACH;FMTTYPE=image/jpeg:https://focuscoworking.com/wp-content/uploads/2025/05/concert-rotary-park-scaled.avif
ORGANIZER;CN="FOCUS Coworking":MAILTO:hello@focuscoworking.com
END:VEVENT
END:VCALENDAR