BEGIN:VCALENDAR
VERSION:2.0
PRODID:-//Focus Coworking - Jefferson, WI - ECPv6.15.20//NONSGML v1.0//EN
CALSCALE:GREGORIAN
METHOD:PUBLISH
X-WR-CALNAME:Focus Coworking - Jefferson, WI
X-ORIGINAL-URL:https://focuscoworking.com
X-WR-CALDESC:Events for Focus Coworking - Jefferson, WI
REFRESH-INTERVAL;VALUE=DURATION:PT1H
X-Robots-Tag:noindex
X-PUBLISHED-TTL:PT1H
BEGIN:VTIMEZONE
TZID:America/Chicago
BEGIN:DAYLIGHT
TZOFFSETFROM:-0600
TZOFFSETTO:-0500
TZNAME:CDT
DTSTART:20210314T080000
END:DAYLIGHT
BEGIN:STANDARD
TZOFFSETFROM:-0500
TZOFFSETTO:-0600
TZNAME:CST
DTSTART:20211107T070000
END:STANDARD
BEGIN:DAYLIGHT
TZOFFSETFROM:-0600
TZOFFSETTO:-0500
TZNAME:CDT
DTSTART:20220313T080000
END:DAYLIGHT
BEGIN:STANDARD
TZOFFSETFROM:-0500
TZOFFSETTO:-0600
TZNAME:CST
DTSTART:20221106T070000
END:STANDARD
BEGIN:DAYLIGHT
TZOFFSETFROM:-0600
TZOFFSETTO:-0500
TZNAME:CDT
DTSTART:20230312T080000
END:DAYLIGHT
BEGIN:STANDARD
TZOFFSETFROM:-0500
TZOFFSETTO:-0600
TZNAME:CST
DTSTART:20231105T070000
END:STANDARD
END:VTIMEZONE
BEGIN:VEVENT
DTSTART;TZID=America/Chicago:20220617T073000
DTEND;TZID=America/Chicago:20220617T083000
DTSTAMP:20260424T135708
CREATED:20220516T194616Z
LAST-MODIFIED:20220516T194617Z
UID:1372-1655451000-1655454600@focuscoworking.com
SUMMARY:Lucky Penny Coffee
DESCRIPTION:FOCUS Coworking is hosting an event at Lucky Penny Coffee.  This is Julie Endl’s coffee truck.  On Friday\, June 17th\, from 7:30 a.m. – 8:30 a.m. we’ll buy each member a coffee or other beverage.  Lucky Penny Coffee truck will be located at 115 E Greenwood St. in Jefferson\, Wi.  This event will be a great opportunity to network with other members!
URL:https://focuscoworking.com/event/lucky-penny-coffee/
LOCATION:Lucky Penny Coffee
ATTACH;FMTTYPE=image/jpeg:https://focuscoworking.com/wp-content/uploads/gravity_forms/3-acb04b1853cef7cbf02c43dbb10f2dbf/2022/05/71865876_2412677905725579_7834749113659817984_n.jpeg
END:VEVENT
END:VCALENDAR