BEGIN:VCALENDAR
VERSION:2.0
PRODID:-//Focus Coworking - Jefferson, WI - ECPv6.15.20//NONSGML v1.0//EN
CALSCALE:GREGORIAN
METHOD:PUBLISH
X-ORIGINAL-URL:https://focuscoworking.com
X-WR-CALDESC:Events for Focus Coworking - Jefferson, WI
REFRESH-INTERVAL;VALUE=DURATION:PT1H
X-Robots-Tag:noindex
X-PUBLISHED-TTL:PT1H
BEGIN:VTIMEZONE
TZID:America/Chicago
BEGIN:DAYLIGHT
TZOFFSETFROM:-0600
TZOFFSETTO:-0500
TZNAME:CDT
DTSTART:20210314T080000
END:DAYLIGHT
BEGIN:STANDARD
TZOFFSETFROM:-0500
TZOFFSETTO:-0600
TZNAME:CST
DTSTART:20211107T070000
END:STANDARD
BEGIN:DAYLIGHT
TZOFFSETFROM:-0600
TZOFFSETTO:-0500
TZNAME:CDT
DTSTART:20220313T080000
END:DAYLIGHT
BEGIN:STANDARD
TZOFFSETFROM:-0500
TZOFFSETTO:-0600
TZNAME:CST
DTSTART:20221106T070000
END:STANDARD
BEGIN:DAYLIGHT
TZOFFSETFROM:-0600
TZOFFSETTO:-0500
TZNAME:CDT
DTSTART:20230312T080000
END:DAYLIGHT
BEGIN:STANDARD
TZOFFSETFROM:-0500
TZOFFSETTO:-0600
TZNAME:CST
DTSTART:20231105T070000
END:STANDARD
END:VTIMEZONE
BEGIN:VEVENT
DTSTART;TZID=America/Chicago:20220427T170000
DTEND;TZID=America/Chicago:20220427T190000
DTSTAMP:20260424T171751
CREATED:20220414T220000Z
LAST-MODIFIED:20220415T183857Z
UID:1356-1651078800-1651086000@focuscoworking.com
SUMMARY:Learn How to Play Sheepshead
DESCRIPTION:Jason Marin will be hosting a Sheepshead class at FOCUS Coworking on Wednesday\, April 27th; starting at 5:00 p.m.  Feel free to come by our building at 148 E. Milwaukee St. to learn how to play!
URL:https://focuscoworking.com/event/learn-how-to-play-sheepshead-2/
LOCATION:WI
CATEGORIES:Public Events
ATTACH;FMTTYPE=image/jpeg:https://focuscoworking.com/wp-content/uploads/2022/03/Sheepshead_Card_Game.jpeg
ORGANIZER;CN="FOCUS Coworking":MAILTO:hello@focuscoworking.com
END:VEVENT
END:VCALENDAR