BEGIN:VCALENDAR
VERSION:2.0
PRODID:-//Focus Coworking - Jefferson, WI - ECPv6.15.20//NONSGML v1.0//EN
CALSCALE:GREGORIAN
METHOD:PUBLISH
X-WR-CALNAME:Focus Coworking - Jefferson, WI
X-ORIGINAL-URL:https://focuscoworking.com
X-WR-CALDESC:Events for Focus Coworking - Jefferson, WI
REFRESH-INTERVAL;VALUE=DURATION:PT1H
X-Robots-Tag:noindex
X-PUBLISHED-TTL:PT1H
BEGIN:VTIMEZONE
TZID:America/Chicago
BEGIN:DAYLIGHT
TZOFFSETFROM:-0600
TZOFFSETTO:-0500
TZNAME:CDT
DTSTART:20190310T080000
END:DAYLIGHT
BEGIN:STANDARD
TZOFFSETFROM:-0500
TZOFFSETTO:-0600
TZNAME:CST
DTSTART:20191103T070000
END:STANDARD
BEGIN:DAYLIGHT
TZOFFSETFROM:-0600
TZOFFSETTO:-0500
TZNAME:CDT
DTSTART:20200308T080000
END:DAYLIGHT
BEGIN:STANDARD
TZOFFSETFROM:-0500
TZOFFSETTO:-0600
TZNAME:CST
DTSTART:20201101T070000
END:STANDARD
BEGIN:DAYLIGHT
TZOFFSETFROM:-0600
TZOFFSETTO:-0500
TZNAME:CDT
DTSTART:20210314T080000
END:DAYLIGHT
BEGIN:STANDARD
TZOFFSETFROM:-0500
TZOFFSETTO:-0600
TZNAME:CST
DTSTART:20211107T070000
END:STANDARD
END:VTIMEZONE
BEGIN:VEVENT
DTSTART;TZID=America/Chicago:20201106T120000
DTEND;TZID=America/Chicago:20201106T130000
DTSTAMP:20260425T205507
CREATED:20200115T112737Z
LAST-MODIFIED:20201001T095247Z
UID:703-1604664000-1604667600@focuscoworking.com
SUMMARY:Virtual Members' Lunch
DESCRIPTION:Join fellow FOCUS Coworking members for some lunchtime networking. Get to know your fellow members online.This is a great opportunity to network\, share what you are working on\, ask questions\, or just enjoy a free lunch with others. (This event is only open to members who have an active monthly membership.)
URL:https://focuscoworking.com/event/members-lunch-5-3/
LOCATION:WI
CATEGORIES:Members Only Events
ATTACH;FMTTYPE=image/png:https://focuscoworking.com/wp-content/uploads/2020/01/FC-Thumbnail-4.png
END:VEVENT
BEGIN:VEVENT
DTSTART;TZID=America/Chicago:20201118T170000
DTEND;TZID=America/Chicago:20201118T180000
DTSTAMP:20260425T205507
CREATED:20200914T160025Z
LAST-MODIFIED:20201001T164056Z
UID:975-1605718800-1605722400@focuscoworking.com
SUMMARY:FOCUS Coworking Virtual Happy Hour & Wheel of Fortune
DESCRIPTION:FOCUS Coworking will be hosting a virtual happy hour and will be playing Wheel of Fortune! Try your luck at Jefferson County themed puzzles\, network with other business professionals\, and have a chance to win some fun prizes.
URL:https://focuscoworking.com/event/focus-coworking-virtual-happy-hour-wheel-of-fortune/
LOCATION:https://zoom.us/j/92860091973
ATTACH;FMTTYPE=image/png:https://focuscoworking.com/wp-content/uploads/2020/09/Focus-4.png
END:VEVENT
END:VCALENDAR