BEGIN:VCALENDAR
VERSION:2.0
PRODID:-//Focus Coworking - Jefferson, WI - ECPv6.15.20//NONSGML v1.0//EN
CALSCALE:GREGORIAN
METHOD:PUBLISH
X-WR-CALNAME:Focus Coworking - Jefferson, WI
X-ORIGINAL-URL:https://focuscoworking.com
X-WR-CALDESC:Events for Focus Coworking - Jefferson, WI
REFRESH-INTERVAL;VALUE=DURATION:PT1H
X-Robots-Tag:noindex
X-PUBLISHED-TTL:PT1H
BEGIN:VTIMEZONE
TZID:America/Chicago
BEGIN:DAYLIGHT
TZOFFSETFROM:-0600
TZOFFSETTO:-0500
TZNAME:CDT
DTSTART:20170312T080000
END:DAYLIGHT
BEGIN:STANDARD
TZOFFSETFROM:-0500
TZOFFSETTO:-0600
TZNAME:CST
DTSTART:20171105T070000
END:STANDARD
BEGIN:DAYLIGHT
TZOFFSETFROM:-0600
TZOFFSETTO:-0500
TZNAME:CDT
DTSTART:20180311T080000
END:DAYLIGHT
BEGIN:STANDARD
TZOFFSETFROM:-0500
TZOFFSETTO:-0600
TZNAME:CST
DTSTART:20181104T070000
END:STANDARD
BEGIN:DAYLIGHT
TZOFFSETFROM:-0600
TZOFFSETTO:-0500
TZNAME:CDT
DTSTART:20190310T080000
END:DAYLIGHT
BEGIN:STANDARD
TZOFFSETFROM:-0500
TZOFFSETTO:-0600
TZNAME:CST
DTSTART:20191103T070000
END:STANDARD
END:VTIMEZONE
BEGIN:VEVENT
DTSTART;TZID=America/Chicago:20181006T150000
DTEND;TZID=America/Chicago:20181006T170000
DTSTAMP:20260423T025234
CREATED:20180815T023305Z
LAST-MODIFIED:20180910T091813Z
UID:531-1538838000-1538845200@focuscoworking.com
SUMMARY:Wine Sippin' and History Bits
DESCRIPTION:Sip your way through history of the Jefferson Fire Station!! \nCome and join us for afternoon of Jefferson history where we will walk through a detailed timeline of the Jefferson Fire station with actual items from the Jefferson Historical Society vault. \nThe afternoon promises to be fun with a tasting of Wisconsin wines. Peggy Bare from Wine & Roses will be sharing her knowledge of of the most popular Wisconsin wines. \nWisconsin has some great wines!! Come and taste for yourself!!
URL:https://focuscoworking.com/event/wine-sippin-and-history-bits/
CATEGORIES:Public Events
ATTACH;FMTTYPE=image/jpeg:https://focuscoworking.com/wp-content/uploads/2018/08/HD-Wine-Tasting_1920x10800_36d8c1bf-5056-a36a-06ea60088ce7f7c9.jpg
ORGANIZER;CN="FOCUS Coworking":MAILTO:hello@focuscoworking.com
END:VEVENT
BEGIN:VEVENT
DTSTART;TZID=America/Chicago:20181003T070000
DTEND;TZID=America/Chicago:20181003T201500
DTSTAMP:20260423T025234
CREATED:20180727T122926Z
LAST-MODIFIED:20180727T122926Z
UID:496-1538550000-1538597700@focuscoworking.com
SUMMARY:FOCUS Mastermind
DESCRIPTION:FOCUS Mastermind is a group for business owners\, freelancers\, entrepreneurs\, and business professionals that meets every other Wednesday. The group helps participants set goals\, be held accountable to goals\, and solve business problems. This supportive group can help your business or career grow faster and break through barriers that are holding you back.
URL:https://focuscoworking.com/event/focus-b2b-mastermind-2-5-3/
CATEGORIES:Public Events
ATTACH;FMTTYPE=image/jpeg:https://focuscoworking.com/wp-content/uploads/2018/06/charles-stoppenbach-room-cropped.jpg
END:VEVENT
BEGIN:VEVENT
DTSTART;TZID=America/Chicago:20180919T070000
DTEND;TZID=America/Chicago:20180919T201500
DTSTAMP:20260423T025234
CREATED:20180727T122716Z
LAST-MODIFIED:20180727T122716Z
UID:495-1537340400-1537388100@focuscoworking.com
SUMMARY:FOCUS Mastermind
DESCRIPTION:FOCUS Mastermind is a group for business owners\, freelancers\, entrepreneurs\, and business professionals that meets every other Wednesday. The group helps participants set goals\, be held accountable to goals\, and solve business problems. This supportive group can help your business or career grow faster and break through barriers that are holding you back.
URL:https://focuscoworking.com/event/focus-b2b-mastermind-2-5-2/
CATEGORIES:Public Events
ATTACH;FMTTYPE=image/jpeg:https://focuscoworking.com/wp-content/uploads/2018/06/charles-stoppenbach-room-cropped.jpg
END:VEVENT
BEGIN:VEVENT
DTSTART;TZID=America/Chicago:20180918T121000
DTEND;TZID=America/Chicago:20180918T125000
DTSTAMP:20260423T025234
CREATED:20180913T094852Z
LAST-MODIFIED:20180913T094852Z
UID:550-1537272600-1537275000@focuscoworking.com
SUMMARY:Webinar Over Lunch: How Great Leaders Inspire Action
DESCRIPTION:Bring your lunch and watch as a group a 17 minute webinar about “How Great Leaders Inspire Action” and then have a group discussion about the content and how you can apply it to your leadership roles. Here is more about the webinar: \nAll great leaders have a common trait: they approach problems relevant to their operations in creative ways. In this talk\, Simon Sinek suggests using a visual and comparative approach in evaluating why other companies may be more successful than your own. Room for improvement revolves around solving the key question “Why?” and acting accordingly.
URL:https://focuscoworking.com/event/webinar-over-lunch-how-great-leaders-inspire-action/
CATEGORIES:Public Events
ATTACH;FMTTYPE=image/jpeg:https://focuscoworking.com/wp-content/uploads/2018/09/8_IMG_3134.jpg
ORGANIZER;CN="FOCUS Coworking":MAILTO:hello@focuscoworking.com
END:VEVENT
BEGIN:VEVENT
DTSTART;TZID=America/Chicago:20180913T180000
DTEND;TZID=America/Chicago:20180913T193000
DTSTAMP:20260423T025234
CREATED:20180913T010301Z
LAST-MODIFIED:20180913T010301Z
UID:547-1536861600-1536867000@focuscoworking.com
SUMMARY:How To Charge What You Are Worth
DESCRIPTION:As a small business owner\, freelancer\, or entrepreneur it can be difficult to charge what you are worth. Sometimes\, you don’t know what you should charge for your products or services. Other times you know you could charge more\, but something is holding you back. In this interactive discussion you’ll learn strategies on how to set pricing\, and gain the confidence to charge what you are worth.
URL:https://focuscoworking.com/event/how-to-charge-what-you-are-worth/
CATEGORIES:Public Events
ATTACH;FMTTYPE=image/jpeg:https://focuscoworking.com/wp-content/uploads/2018/09/https_2F2Fcdn.evbuc_.com2Fimages2F484328672F2658217465032F12Foriginal.jpg
ORGANIZER;CN="FOCUS Coworking":MAILTO:hello@focuscoworking.com
END:VEVENT
BEGIN:VEVENT
DTSTART;TZID=America/Chicago:20180910T190000
DTEND;TZID=America/Chicago:20180910T203000
DTSTAMP:20260423T025234
CREATED:20180910T091150Z
LAST-MODIFIED:20180910T091150Z
UID:542-1536606000-1536611400@focuscoworking.com
SUMMARY:Rodan & Fields Event
DESCRIPTION:See all the Rodan & Fields products
URL:https://focuscoworking.com/event/rodan-fields-event/
CATEGORIES:Public Events
ORGANIZER;CN="FOCUS Coworking":MAILTO:hello@focuscoworking.com
END:VEVENT
BEGIN:VEVENT
DTSTART;TZID=America/Chicago:20180905T070000
DTEND;TZID=America/Chicago:20180905T201500
DTSTAMP:20260423T025234
CREATED:20180727T122553Z
LAST-MODIFIED:20180727T122553Z
UID:491-1536130800-1536178500@focuscoworking.com
SUMMARY:FOCUS Mastermind
DESCRIPTION:FOCUS Mastermind is a group for business owners\, freelancers\, entrepreneurs\, and business professionals that meets every other Wednesday. The group helps participants set goals\, be held accountable to goals\, and solve business problems. This supportive group can help your business or career grow faster and break through barriers that are holding you back.
URL:https://focuscoworking.com/event/focus-b2b-mastermind-2-5/
CATEGORIES:Public Events
ATTACH;FMTTYPE=image/jpeg:https://focuscoworking.com/wp-content/uploads/2018/06/charles-stoppenbach-room-cropped.jpg
END:VEVENT
BEGIN:VEVENT
DTSTART;TZID=America/Chicago:20180823T073000
DTEND;TZID=America/Chicago:20180823T084500
DTSTAMP:20260423T025234
CREATED:20180731T213637Z
LAST-MODIFIED:20180816T205815Z
UID:523-1535009400-1535013900@focuscoworking.com
SUMMARY:AmSpirit Business Connections
DESCRIPTION:Local business networking group forming.  AmSpirit Business Connections is starting a local Jefferson/Fort Atkinson chapter and you are invited. \nWe are forming a local chapter on Thursday mornings that meets from 7:30-8:45am at Focus Co-working 148 E Milwaukee Street Jefferson.  Business professionals and owners who want to grow their business through qualified referrals are welcome to RSVP.  You can find out more information by contacting diane@amspiritwi.com or call 608-335-7543.
URL:https://focuscoworking.com/event/amspirit-business-connections/
CATEGORIES:Public Events
ORGANIZER;CN="AmSpirit":MAILTO:diane@amspiritwi.com
END:VEVENT
BEGIN:VEVENT
DTSTART;TZID=America/Chicago:20180822T070000
DTEND;TZID=America/Chicago:20180822T201500
DTSTAMP:20260423T025234
CREATED:20180726T220819Z
LAST-MODIFIED:20180727T122617Z
UID:481-1534921200-1534968900@focuscoworking.com
SUMMARY:FOCUS Mastermind
DESCRIPTION:FOCUS Mastermind is a group for business owners\, freelancers\, entrepreneurs\, and business professionals that meets every other Wednesday. The group helps participants set goals\, be held accountable to goals\, and solve business problems. This supportive group can help your business or career grow faster and break through barriers that are holding you back.
URL:https://focuscoworking.com/event/focus-b2b-mastermind-2/
CATEGORIES:Public Events
ATTACH;FMTTYPE=image/jpeg:https://focuscoworking.com/wp-content/uploads/2018/06/charles-stoppenbach-room-cropped.jpg
END:VEVENT
BEGIN:VEVENT
DTSTART;TZID=America/Chicago:20180814T121000
DTEND;TZID=America/Chicago:20180814T125000
DTSTAMP:20260423T025234
CREATED:20180801T030002Z
LAST-MODIFIED:20180801T030002Z
UID:520-1534248600-1534251000@focuscoworking.com
SUMMARY:Webinar Over Lunch: How To Find Work You Love
DESCRIPTION:Watch a 15 minute webinar and then participate in a discussion with other attendees about the webinar. This webinar will be the Ted Talk “How To Find Work You Love” \nOnce upon a time\, Scott Dinsmore was working at a Fortune 500 company and got some terrible advice: ‘Don’t worry about the work you’re doing now\, concentrate on building your resume’. \nThis launched him on a quest to understand why 80 per cent of adults hate the work they do\, and more importantly\, to identify what the other 20 per cent were doing differently. \nIn this insightful talk\, he explains how he’s distilled the results down to what he calls his Passionate Work Framework\, and outlines three surprisingly simple practices for finding and doing work you love\, which all happen to be completely within your control. \nWhile not required please RSVP here so that we can make sure we have enough space for everyone.
URL:https://focuscoworking.com/event/webinar-over-lunch-how-to-find-work-you-love/
CATEGORIES:Public Events
ATTACH;FMTTYPE=image/jpeg:https://focuscoworking.com/wp-content/uploads/2018/06/8_IMG_3134.jpg
ORGANIZER;CN="FOCUS Coworking":MAILTO:hello@focuscoworking.com
END:VEVENT
BEGIN:VEVENT
DTSTART;TZID=America/Chicago:20180809T080000
DTEND;TZID=America/Chicago:20180809T170000
DTSTAMP:20260423T025234
CREATED:20180726T222700Z
LAST-MODIFIED:20180726T222753Z
UID:483-1533801600-1533834000@focuscoworking.com
SUMMARY:International Coworking Day - FREE Coworking
DESCRIPTION:Join the coworking community on International Coworking day. We will be offering FREE Coworking all day\, and we will provide lunch to those using the space. Give coworking a try and see the benefits of coworking.
URL:https://focuscoworking.com/event/international-coworking-day-free-coworking-lunch/
CATEGORIES:Public Events
END:VEVENT
BEGIN:VEVENT
DTSTART;TZID=America/Chicago:20180809T060000
DTEND;TZID=America/Chicago:20180809T193000
DTSTAMP:20260423T025234
CREATED:20180731T204118Z
LAST-MODIFIED:20180731T205845Z
UID:515-1533794400-1533843000@focuscoworking.com
SUMMARY:Diversify Your Freelance/Small Business Income
DESCRIPTION:In this group discussion we’ll explore a variety of ways to diversify your income as a freelancer/small business owner including passive income\, online work\, and other strategies. We will discuss was to avoid the ups and downs of irregular income and how to increase your income. Bring your own strategies and ideas to share. This event is part of our monthly professional development series held the second Tuesday of each month. While not required\, please RSVP here so we can plan beverages and snacks.
URL:https://focuscoworking.com/event/diversify-your-freelance-small-business-income/
CATEGORIES:Public Events
ATTACH;FMTTYPE=image/jpeg:https://focuscoworking.com/wp-content/uploads/2018/07/1_IMG_3193.jpg
END:VEVENT
BEGIN:VEVENT
DTSTART;TZID=America/Chicago:20180808T070000
DTEND;TZID=America/Chicago:20180808T201500
DTSTAMP:20260423T025234
CREATED:20180709T151731Z
LAST-MODIFIED:20180726T220557Z
UID:473-1533711600-1533759300@focuscoworking.com
SUMMARY:FOCUS Mastermind
DESCRIPTION:FOCUS Mastermind is a group for business owners\, freelancers\, entrepreneurs\, and business professionals that meets every other Wednesday. The group helps participants set goals\, be held accountable to goals\, and solve business problems. This supportive group can help your business or career grow faster and break through barriers that are holding you back.
URL:https://focuscoworking.com/event/focus-b2b-mastermind/
CATEGORIES:Public Events
ATTACH;FMTTYPE=image/jpeg:https://focuscoworking.com/wp-content/uploads/2018/06/charles-stoppenbach-room-cropped.jpg
END:VEVENT
BEGIN:VEVENT
DTSTART;TZID=America/Chicago:20180725T190000
DTEND;TZID=America/Chicago:20180725T200000
DTSTAMP:20260423T025234
CREATED:20180606T034418Z
LAST-MODIFIED:20180606T034418Z
UID:400-1532545200-1532548800@focuscoworking.com
SUMMARY:Tri-County Young Professionals Network Book Club
DESCRIPTION:Join the Live Video Session to keep our accountability and discuss chapters of the current book! If you would rather enjoy the company of the other people in the book club we will be at FOCUS Coworking in Jefferson!
URL:https://focuscoworking.com/event/tri-county-young-professionals-network-book-club-2-2-2-2-2-2/
CATEGORIES:Public Events
END:VEVENT
BEGIN:VEVENT
DTSTART;TZID=America/Chicago:20180725T070000
DTEND;TZID=America/Chicago:20180725T201500
DTSTAMP:20260423T025234
CREATED:20180727T121919Z
LAST-MODIFIED:20180727T121919Z
UID:490-1532502000-1532549700@focuscoworking.com
SUMMARY:FOCUS Mastermind
DESCRIPTION:FOCUS Mastermind is a group for business owners\, freelancers\, entrepreneurs\, and business professionals that meets every other Wednesday. The group helps participants set goals\, be held accountable to goals\, and solve business problems. This supportive group can help your business or career grow faster and break through barriers that are holding you back.
URL:https://focuscoworking.com/event/focus-b2b-mastermind-2-4/
CATEGORIES:Public Events
ATTACH;FMTTYPE=image/jpeg:https://focuscoworking.com/wp-content/uploads/2018/06/charles-stoppenbach-room-cropped.jpg
END:VEVENT
BEGIN:VEVENT
DTSTART;TZID=America/Chicago:20180718T190000
DTEND;TZID=America/Chicago:20180718T200000
DTSTAMP:20260423T025234
CREATED:20180606T034355Z
LAST-MODIFIED:20180606T034355Z
UID:398-1531940400-1531944000@focuscoworking.com
SUMMARY:Tri-County Young Professionals Network Book Club
DESCRIPTION:Join the Live Video Session to keep our accountability and discuss chapters of the current book! If you would rather enjoy the company of the other people in the book club we will be at FOCUS Coworking in Jefferson!
URL:https://focuscoworking.com/event/tri-county-young-professionals-network-book-club-2-2-2-2-2/
CATEGORIES:Public Events
END:VEVENT
BEGIN:VEVENT
DTSTART;TZID=America/Chicago:20180711T190000
DTEND;TZID=America/Chicago:20180711T200000
DTSTAMP:20260423T025234
CREATED:20180606T034335Z
LAST-MODIFIED:20180606T034335Z
UID:396-1531335600-1531339200@focuscoworking.com
SUMMARY:Tri-County Young Professionals Network Book Club
DESCRIPTION:Join the Live Video Session to keep our accountability and discuss chapters of the current book! If you would rather enjoy the company of the other people in the book club we will be at FOCUS Coworking in Jefferson!
URL:https://focuscoworking.com/event/tri-county-young-professionals-network-book-club-2-2-2-2/
CATEGORIES:Public Events
END:VEVENT
BEGIN:VEVENT
DTSTART;TZID=America/Chicago:20180709T180000
DTEND;TZID=America/Chicago:20180709T200000
DTSTAMP:20260423T025234
CREATED:20180619T174003Z
LAST-MODIFIED:20180619T174003Z
UID:469-1531159200-1531166400@focuscoworking.com
SUMMARY:Wine Tasting - Supporting Tomorrow's Hope
DESCRIPTION:Be one of the first people in Wisconsin to hear how viaONEHOPE can have an impact on not only the world and our country\, but our local community. FOCUS Coworking is  joining forces to introduce you to ViaONEHOPE\, and to help support Tomorrow’s Hope. \nIn addition to world class wine\, viaONEHOPE offers coffee\, kitchen products\, and gift packs. Join us to learn how viaONEHOPE changes lives one bottle at a time! \nYour hosts will be offering 6 different wines for you to taste on July 9th. Please take time out of your busy schedule to MIX\, MINGLE and MAKE AN IMPACT. \nYour purchase of 1/2 case and whole cases of wine\, along with gift boxes will result in 10% of purchases going to Tomorrow’s Hope. If you aren’t interested in a 1/2 or whole case\, Damon has volunteered to coordinate purchases so your partial order will be placed with another to benefit Tomorrow’s Hope. There is a price savings when you order in bulk. Visit the website at: https://secure.viaonehope.com/parties/27646. \nIf you have any questions please message Barbara Lee at homlee@charter.net or at 920-220-1650.
URL:https://focuscoworking.com/event/wine-tasting-supporting-tomorrows-hope/
CATEGORIES:Public Events
ATTACH;FMTTYPE=image/jpeg:https://focuscoworking.com/wp-content/uploads/2018/06/wine.jpg
END:VEVENT
BEGIN:VEVENT
DTSTART;TZID=America/Chicago:20180704T190000
DTEND;TZID=America/Chicago:20180704T200000
DTSTAMP:20260423T025234
CREATED:20180606T034253Z
LAST-MODIFIED:20180606T034253Z
UID:394-1530730800-1530734400@focuscoworking.com
SUMMARY:Tri-County Young Professionals Network Book Club
DESCRIPTION:Join the Live Video Session to keep our accountability and discuss chapters of the current book! If you would rather enjoy the company of the other people in the book club we will be at FOCUS Coworking in Jefferson!
URL:https://focuscoworking.com/event/tri-county-young-professionals-network-book-club-2-2-2/
CATEGORIES:Public Events
END:VEVENT
BEGIN:VEVENT
DTSTART;TZID=America/Chicago:20180627T190000
DTEND;TZID=America/Chicago:20180627T200000
DTSTAMP:20260423T025234
CREATED:20180606T034224Z
LAST-MODIFIED:20180606T034224Z
UID:392-1530126000-1530129600@focuscoworking.com
SUMMARY:Tri-County Young Professionals Network Book Club
DESCRIPTION:Join the Live Video Session to keep our accountability and discuss chapters of the current book! If you would rather enjoy the company of the other people in the book club we will be at FOCUS Coworking in Jefferson!
URL:https://focuscoworking.com/event/tri-county-young-professionals-network-book-club-2-2/
CATEGORIES:Public Events
END:VEVENT
BEGIN:VEVENT
DTSTART;TZID=America/Chicago:20180627T070000
DTEND;TZID=America/Chicago:20180627T201500
DTSTAMP:20260423T025234
CREATED:20180727T121011Z
LAST-MODIFIED:20180727T121011Z
UID:488-1530082800-1530130500@focuscoworking.com
SUMMARY:FOCUS Mastermind
DESCRIPTION:FOCUS Mastermind is a group for business owners\, freelancers\, entrepreneurs\, and business professionals that meets every other Wednesday. The group helps participants set goals\, be held accountable to goals\, and solve business problems. This supportive group can help your business or career grow faster and break through barriers that are holding you back.
URL:https://focuscoworking.com/event/focus-b2b-mastermind-2-3/
CATEGORIES:Public Events
ATTACH;FMTTYPE=image/jpeg:https://focuscoworking.com/wp-content/uploads/2018/06/charles-stoppenbach-room-cropped.jpg
END:VEVENT
BEGIN:VEVENT
DTSTART;TZID=America/Chicago:20180625T190000
DTEND;TZID=America/Chicago:20180625T200000
DTSTAMP:20260423T025234
CREATED:20180618T143546Z
LAST-MODIFIED:20180618T143546Z
UID:466-1529953200-1529956800@focuscoworking.com
SUMMARY:Essential Oils for Your Healthy Lifestyle
DESCRIPTION:Education by Erin Frey-doTERRA Wellness Advocate\nCo-hosted by Julie Endl – Healthy Lifestyle Coach \nInterested in using these healing oils but not confident in just how to use them safely and effectively? This beginner class is for you! \nPure\, potent essential oils can support your wellbeing on all levels— physical\, mental/emotional and spiritual. \nDiscover their most common and impactful uses and learn which oils to get started with to experience support for your personal health goals. Sample a variety of blends and single oils\, learn basic guidelines for safe and effective use and ask questions. \nEssential oils are often safer\, faster acting\, more effective and less expensive than other options out there.
URL:https://focuscoworking.com/event/essential-oils-for-your-healthy-lifestyle-2/
CATEGORIES:Public Events
ATTACH;FMTTYPE=image/jpeg:https://focuscoworking.com/wp-content/uploads/2018/06/32644351_10212148374560753_8946161271179313152_n.jpg
END:VEVENT
BEGIN:VEVENT
DTSTART;TZID=America/Chicago:20180620T190000
DTEND;TZID=America/Chicago:20180620T200000
DTSTAMP:20260423T025234
CREATED:20180606T034129Z
LAST-MODIFIED:20180606T034129Z
UID:390-1529521200-1529524800@focuscoworking.com
SUMMARY:Tri-County Young Professionals Network Book Club
DESCRIPTION:Join the Live Video Session to keep our accountability and discuss chapters of the current book! If you would rather enjoy the company of the other people in the book club we will be at FOCUS Coworking in Jefferson!
URL:https://focuscoworking.com/event/tri-county-young-professionals-network-book-club-2/
CATEGORIES:Public Events
END:VEVENT
BEGIN:VEVENT
DTSTART;TZID=America/Chicago:20180613T190000
DTEND;TZID=America/Chicago:20180613T200000
DTSTAMP:20260423T025234
CREATED:20180605T174913Z
LAST-MODIFIED:20180605T174913Z
UID:384-1528916400-1528920000@focuscoworking.com
SUMMARY:Tri-County Young Professionals Network Book Club
DESCRIPTION:Join the Live Video Session to keep our accountability and discuss chapters of the current book! If you would rather enjoy the company of the other people in the book club we will be at FOCUS Coworking in Jefferson!
URL:https://focuscoworking.com/event/tri-county-young-professionals-network-book-club/
CATEGORIES:Public Events
END:VEVENT
BEGIN:VEVENT
DTSTART;TZID=America/Chicago:20180613T070000
DTEND;TZID=America/Chicago:20180613T201500
DTSTAMP:20260423T025234
CREATED:20180727T120839Z
LAST-MODIFIED:20180727T120839Z
UID:486-1528873200-1528920900@focuscoworking.com
SUMMARY:FOCUS Mastermind
DESCRIPTION:FOCUS Mastermind is a group for business owners\, freelancers\, entrepreneurs\, and business professionals that meets every other Wednesday. The group helps participants set goals\, be held accountable to goals\, and solve business problems. This supportive group can help your business or career grow faster and break through barriers that are holding you back.
URL:https://focuscoworking.com/event/focus-b2b-mastermind-2-2/
CATEGORIES:Public Events
ATTACH;FMTTYPE=image/jpeg:https://focuscoworking.com/wp-content/uploads/2018/06/charles-stoppenbach-room-cropped.jpg
END:VEVENT
BEGIN:VEVENT
DTSTART;TZID=America/Chicago:20180608T160000
DTEND;TZID=America/Chicago:20180608T180000
DTSTAMP:20260423T025234
CREATED:20180531T161145Z
LAST-MODIFIED:20180531T161145Z
UID:382-1528473600-1528480800@focuscoworking.com
SUMMARY:Tiki And Taco Bar & Hawaiian Shirt Contest
DESCRIPTION:4 pm Official Business Ribbon Cutting\n4—6 pm Join us for a fun Friday evening event!\nFeaturing a tiki bar\, taco bar\, tropical music and best Hawaiian Shirt Contest!!
URL:https://focuscoworking.com/event/tiki-and-taco-bar-hawaiian-shirt-contest/
CATEGORIES:Public Events
END:VEVENT
BEGIN:VEVENT
DTSTART;TZID=America/Chicago:20180608T113000
DTEND;TZID=America/Chicago:20180608T133000
DTSTAMP:20260423T025234
CREATED:20180531T161027Z
LAST-MODIFIED:20180531T161238Z
UID:380-1528457400-1528464600@focuscoworking.com
SUMMARY:LUNCH ‘N LEARN - Lean Business Model Canvas
DESCRIPTION:11:30a lunch and networking\n12:00p Lean Business Model Canvas\nKevin Kaufman brings a depth of experience working with small and medium sized businesses to his position as Director at the Small Business Development Center at UW-Whitewater. From strategic planning to financial projections to buy/sell valuation to operational excellence\, Kevin’s background as a commercial banker\, national sales manager and eight years of consulting experience will help your company define and achieve its goals. Kevin holds a Bachelor’s degree in Finance from UW-Whitewater and an MBA from UW-La Crosse.
URL:https://focuscoworking.com/event/lunch-n-learn-lean-business-model-canvas/
CATEGORIES:Public Events
END:VEVENT
BEGIN:VEVENT
DTSTART;TZID=America/Chicago:20180608T070000
DTEND;TZID=America/Chicago:20180608T080000
DTSTAMP:20260423T025234
CREATED:20180531T160725Z
LAST-MODIFIED:20180531T161304Z
UID:378-1528441200-1528444800@focuscoworking.com
SUMMARY:Business Over Breakfast
DESCRIPTION:7:00 am breakfast 7:15 am Co-owner Damon Schopen shares with us ‘What is coworking?’ Learn how this innovative idea can help you start a new business or help your business grow.
URL:https://focuscoworking.com/event/business-over-breakfast/
CATEGORIES:Public Events
END:VEVENT
BEGIN:VEVENT
DTSTART;VALUE=DATE:20180604
DTEND;VALUE=DATE:20180609
DTSTAMP:20260423T025234
CREATED:20180531T160443Z
LAST-MODIFIED:20180531T160443Z
UID:376-1528070400-1528502399@focuscoworking.com
SUMMARY:Free Coworking Week
DESCRIPTION:Monday\, June 4th through Friday\, June 8th is free coworking week at FOCUS Coworking. Drop in for a day or spend the entire week working at FOCUS Coworking. You can try out our conference rooms\, private offices\, and shared space at no charge.
URL:https://focuscoworking.com/event/free-coworking-week/
CATEGORIES:Public Events
END:VEVENT
BEGIN:VEVENT
DTSTART;TZID=America/Chicago:20180531T180000
DTEND;TZID=America/Chicago:20180531T193000
DTSTAMP:20260423T025234
CREATED:20180516T125323Z
LAST-MODIFIED:20180530T152640Z
UID:366-1527789600-1527795000@focuscoworking.com
SUMMARY:Everything You Wanted To Know About Excel But Are Afraid To Ask
DESCRIPTION:
URL:https://focuscoworking.com/event/everything-you-wanted-to-know-about-excel-but-were-afraid-to-ask/
CATEGORIES:Public Events
END:VEVENT
END:VCALENDAR