BEGIN:VCALENDAR
VERSION:2.0
PRODID:-//Focus Coworking - Jefferson, WI - ECPv6.15.20//NONSGML v1.0//EN
CALSCALE:GREGORIAN
METHOD:PUBLISH
X-ORIGINAL-URL:https://focuscoworking.com
X-WR-CALDESC:Events for Focus Coworking - Jefferson, WI
REFRESH-INTERVAL;VALUE=DURATION:PT1H
X-Robots-Tag:noindex
X-PUBLISHED-TTL:PT1H
BEGIN:VTIMEZONE
TZID:America/Chicago
BEGIN:DAYLIGHT
TZOFFSETFROM:-0600
TZOFFSETTO:-0500
TZNAME:CDT
DTSTART:20250309T080000
END:DAYLIGHT
BEGIN:STANDARD
TZOFFSETFROM:-0500
TZOFFSETTO:-0600
TZNAME:CST
DTSTART:20251102T070000
END:STANDARD
BEGIN:DAYLIGHT
TZOFFSETFROM:-0600
TZOFFSETTO:-0500
TZNAME:CDT
DTSTART:20260308T080000
END:DAYLIGHT
BEGIN:STANDARD
TZOFFSETFROM:-0500
TZOFFSETTO:-0600
TZNAME:CST
DTSTART:20261101T070000
END:STANDARD
BEGIN:DAYLIGHT
TZOFFSETFROM:-0600
TZOFFSETTO:-0500
TZNAME:CDT
DTSTART:20270314T080000
END:DAYLIGHT
BEGIN:STANDARD
TZOFFSETFROM:-0500
TZOFFSETTO:-0600
TZNAME:CST
DTSTART:20271107T070000
END:STANDARD
END:VTIMEZONE
BEGIN:VEVENT
DTSTART;TZID=America/Chicago:20261209T180000
DTEND;TZID=America/Chicago:20261209T193000
DTSTAMP:20260421T143014
CREATED:20260202T145603Z
LAST-MODIFIED:20260202T145603Z
UID:1940-1796839200-1796844600@focuscoworking.com
SUMMARY:FOCUS Holiday Open House: Thrift Store Christmas Chic
DESCRIPTION:Join us for our annual FOCUS Coworking Holiday Open House and celebrate the season with a little sparkle and a lot of personality. This year’s theme is Thrift Store Christmas Chic\, so break out your most festive secondhand finds. Think cozy\, kitschy\, glamorous\, or delightfully over-the-top. \nWe’ll enjoy good company\, holiday cheer\, and a classic White Elephant gift exchange. Bring a wrapped gift if you’d like to participate. Something fun\, quirky\, or gently used is encouraged. The goal is laughs\, not perfection. \nThis open house is a chance to relax\, connect\, and celebrate another great year together. Come mingle with members\, friends\, and the FOCUS community\, see the space decked out for the holidays\, and lean into the joy of a slightly unpolished\, very fun Christmas vibe. \nFestive attire encouraged. Holiday spirit required.
URL:https://focuscoworking.com/event/focus-holiday-open-house-thrift-store-christmas-chic/
LOCATION:FOCUS Coworking\, 148 E Milwaukee St.\, Jefferson\, WI\, 53549\, United States
CATEGORIES:Public Events
ATTACH;FMTTYPE=image/jpeg:https://focuscoworking.com/wp-content/uploads/2026/02/the-focus-coworking-team-in-silly-holiday-outfits.avif
ORGANIZER;CN="FOCUS Coworking":MAILTO:hello@focuscoworking.com
END:VEVENT
END:VCALENDAR