BEGIN:VCALENDAR
VERSION:2.0
PRODID:-//Focus Coworking - Jefferson, WI - ECPv6.15.20//NONSGML v1.0//EN
CALSCALE:GREGORIAN
METHOD:PUBLISH
X-WR-CALNAME:Focus Coworking - Jefferson, WI
X-ORIGINAL-URL:https://focuscoworking.com
X-WR-CALDESC:Events for Focus Coworking - Jefferson, WI
REFRESH-INTERVAL;VALUE=DURATION:PT1H
X-Robots-Tag:noindex
X-PUBLISHED-TTL:PT1H
BEGIN:VTIMEZONE
TZID:America/Chicago
BEGIN:DAYLIGHT
TZOFFSETFROM:-0600
TZOFFSETTO:-0500
TZNAME:CDT
DTSTART:20250309T080000
END:DAYLIGHT
BEGIN:STANDARD
TZOFFSETFROM:-0500
TZOFFSETTO:-0600
TZNAME:CST
DTSTART:20251102T070000
END:STANDARD
BEGIN:DAYLIGHT
TZOFFSETFROM:-0600
TZOFFSETTO:-0500
TZNAME:CDT
DTSTART:20260308T080000
END:DAYLIGHT
BEGIN:STANDARD
TZOFFSETFROM:-0500
TZOFFSETTO:-0600
TZNAME:CST
DTSTART:20261101T070000
END:STANDARD
BEGIN:DAYLIGHT
TZOFFSETFROM:-0600
TZOFFSETTO:-0500
TZNAME:CDT
DTSTART:20270314T080000
END:DAYLIGHT
BEGIN:STANDARD
TZOFFSETFROM:-0500
TZOFFSETTO:-0600
TZNAME:CST
DTSTART:20271107T070000
END:STANDARD
END:VTIMEZONE
BEGIN:VEVENT
DTSTART;TZID=America/Chicago:20261104T073000
DTEND;TZID=America/Chicago:20261104T083000
DTSTAMP:20260421T093818
CREATED:20251201T180235Z
LAST-MODIFIED:20251201T180245Z
UID:1877-1793777400-1793781000@focuscoworking.com
SUMMARY:FOCUS Mastermind
DESCRIPTION:Join the FOCUS Mastermind\, a supportive\, goal-oriented group that meets on the first Wednesday of every month from 7:30 am to 8:30 am. Whether you’re thinking of starting a business\, looking to grow your existing business\, or simply want to achieve personal goals\, this mastermind offers a space to set clear objectives\, receive valuable feedback\, and stay accountable. You’ll connect with like-minded individuals\, share insights\, and solve challenges together. The group is primarily business-focused\, but anyone with goals is welcome. Come ready to FOCUS\, grow\, and achieve success! The mastermind is free and open to anyone wanting to achieve their goals. \nThe mastermind meets on Zoom the first Wedneday of each month from 7:30 am to 8:30 am. Fill in the form below to receive the Zoom meeting information. \n\n\n\n                \n                        \n                            FOCUS Mastermind Signup\n                             \n                        					\n						Δ\n						\n						\n\n					\n                        Name(Required)\n                            \n                            \n                                                    \n                                                    First\n                                                \n                            \n                            \n                                                    \n                                                    Last\n                                                \n                            \n                        Email(Required)
URL:https://focuscoworking.com/event/focus-mastermind-november-2026/
LOCATION:FOCUS Coworking\, 148 E Milwaukee St.\, Jefferson\, WI\, 53549\, United States
ATTACH;FMTTYPE=image/jpeg:https://focuscoworking.com/wp-content/uploads/2025/04/focus-mastermind-participants-on-zoom.avif
ORGANIZER;CN="FOCUS Coworking":MAILTO:hello@focuscoworking.com
END:VEVENT
BEGIN:VEVENT
DTSTART;TZID=America/Chicago:20261202T073000
DTEND;TZID=America/Chicago:20261202T083000
DTSTAMP:20260421T093818
CREATED:20251201T180259Z
LAST-MODIFIED:20251201T180309Z
UID:1879-1796196600-1796200200@focuscoworking.com
SUMMARY:FOCUS Mastermind
DESCRIPTION:Join the FOCUS Mastermind\, a supportive\, goal-oriented group that meets on the first Wednesday of every month from 7:30 am to 8:30 am. Whether you’re thinking of starting a business\, looking to grow your existing business\, or simply want to achieve personal goals\, this mastermind offers a space to set clear objectives\, receive valuable feedback\, and stay accountable. You’ll connect with like-minded individuals\, share insights\, and solve challenges together. The group is primarily business-focused\, but anyone with goals is welcome. Come ready to FOCUS\, grow\, and achieve success! The mastermind is free and open to anyone wanting to achieve their goals. \nThe mastermind meets on Zoom the first Wedneday of each month from 7:30 am to 8:30 am. Fill in the form below to receive the Zoom meeting information. \n\n\n                \n                        \n                            FOCUS Mastermind Signup\n                             \n                        					\n						Δ\n						\n						\n\n					\n                        Name(Required)\n                            \n                            \n                                                    \n                                                    First\n                                                \n                            \n                            \n                                                    \n                                                    Last\n                                                \n                            \n                        Email(Required)
URL:https://focuscoworking.com/event/focus-mastermind-december-2026/
LOCATION:FOCUS Coworking\, 148 E Milwaukee St.\, Jefferson\, WI\, 53549\, United States
ATTACH;FMTTYPE=image/jpeg:https://focuscoworking.com/wp-content/uploads/2025/04/focus-mastermind-participants-on-zoom.avif
ORGANIZER;CN="FOCUS Coworking":MAILTO:hello@focuscoworking.com
END:VEVENT
BEGIN:VEVENT
DTSTART;TZID=America/Chicago:20261209T180000
DTEND;TZID=America/Chicago:20261209T193000
DTSTAMP:20260421T093818
CREATED:20260202T145603Z
LAST-MODIFIED:20260202T145603Z
UID:1940-1796839200-1796844600@focuscoworking.com
SUMMARY:FOCUS Holiday Open House: Thrift Store Christmas Chic
DESCRIPTION:Join us for our annual FOCUS Coworking Holiday Open House and celebrate the season with a little sparkle and a lot of personality. This year’s theme is Thrift Store Christmas Chic\, so break out your most festive secondhand finds. Think cozy\, kitschy\, glamorous\, or delightfully over-the-top. \nWe’ll enjoy good company\, holiday cheer\, and a classic White Elephant gift exchange. Bring a wrapped gift if you’d like to participate. Something fun\, quirky\, or gently used is encouraged. The goal is laughs\, not perfection. \nThis open house is a chance to relax\, connect\, and celebrate another great year together. Come mingle with members\, friends\, and the FOCUS community\, see the space decked out for the holidays\, and lean into the joy of a slightly unpolished\, very fun Christmas vibe. \nFestive attire encouraged. Holiday spirit required.
URL:https://focuscoworking.com/event/focus-holiday-open-house-thrift-store-christmas-chic/
LOCATION:FOCUS Coworking\, 148 E Milwaukee St.\, Jefferson\, WI\, 53549\, United States
CATEGORIES:Public Events
ATTACH;FMTTYPE=image/jpeg:https://focuscoworking.com/wp-content/uploads/2026/02/the-focus-coworking-team-in-silly-holiday-outfits.avif
ORGANIZER;CN="FOCUS Coworking":MAILTO:hello@focuscoworking.com
END:VEVENT
END:VCALENDAR