BEGIN:VCALENDAR
VERSION:2.0
PRODID:-//Focus Coworking - Jefferson, WI - ECPv6.15.20//NONSGML v1.0//EN
CALSCALE:GREGORIAN
METHOD:PUBLISH
X-WR-CALNAME:Focus Coworking - Jefferson, WI
X-ORIGINAL-URL:https://focuscoworking.com
X-WR-CALDESC:Events for Focus Coworking - Jefferson, WI
REFRESH-INTERVAL;VALUE=DURATION:PT1H
X-Robots-Tag:noindex
X-PUBLISHED-TTL:PT1H
BEGIN:VTIMEZONE
TZID:America/Chicago
BEGIN:DAYLIGHT
TZOFFSETFROM:-0600
TZOFFSETTO:-0500
TZNAME:CDT
DTSTART:20170312T080000
END:DAYLIGHT
BEGIN:STANDARD
TZOFFSETFROM:-0500
TZOFFSETTO:-0600
TZNAME:CST
DTSTART:20171105T070000
END:STANDARD
BEGIN:DAYLIGHT
TZOFFSETFROM:-0600
TZOFFSETTO:-0500
TZNAME:CDT
DTSTART:20180311T080000
END:DAYLIGHT
BEGIN:STANDARD
TZOFFSETFROM:-0500
TZOFFSETTO:-0600
TZNAME:CST
DTSTART:20181104T070000
END:STANDARD
BEGIN:DAYLIGHT
TZOFFSETFROM:-0600
TZOFFSETTO:-0500
TZNAME:CDT
DTSTART:20190310T080000
END:DAYLIGHT
BEGIN:STANDARD
TZOFFSETFROM:-0500
TZOFFSETTO:-0600
TZNAME:CST
DTSTART:20191103T070000
END:STANDARD
END:VTIMEZONE
BEGIN:VEVENT
DTSTART;TZID=America/Chicago:20180704T190000
DTEND;TZID=America/Chicago:20180704T200000
DTSTAMP:20260422T173133
CREATED:20180606T034253Z
LAST-MODIFIED:20180606T034253Z
UID:394-1530730800-1530734400@focuscoworking.com
SUMMARY:Tri-County Young Professionals Network Book Club
DESCRIPTION:Join the Live Video Session to keep our accountability and discuss chapters of the current book! If you would rather enjoy the company of the other people in the book club we will be at FOCUS Coworking in Jefferson!
URL:https://focuscoworking.com/event/tri-county-young-professionals-network-book-club-2-2-2/
CATEGORIES:Public Events
END:VEVENT
BEGIN:VEVENT
DTSTART;TZID=America/Chicago:20180627T190000
DTEND;TZID=America/Chicago:20180627T200000
DTSTAMP:20260422T173133
CREATED:20180606T034224Z
LAST-MODIFIED:20180606T034224Z
UID:392-1530126000-1530129600@focuscoworking.com
SUMMARY:Tri-County Young Professionals Network Book Club
DESCRIPTION:Join the Live Video Session to keep our accountability and discuss chapters of the current book! If you would rather enjoy the company of the other people in the book club we will be at FOCUS Coworking in Jefferson!
URL:https://focuscoworking.com/event/tri-county-young-professionals-network-book-club-2-2/
CATEGORIES:Public Events
END:VEVENT
BEGIN:VEVENT
DTSTART;TZID=America/Chicago:20180627T070000
DTEND;TZID=America/Chicago:20180627T201500
DTSTAMP:20260422T173133
CREATED:20180727T121011Z
LAST-MODIFIED:20180727T121011Z
UID:488-1530082800-1530130500@focuscoworking.com
SUMMARY:FOCUS Mastermind
DESCRIPTION:FOCUS Mastermind is a group for business owners\, freelancers\, entrepreneurs\, and business professionals that meets every other Wednesday. The group helps participants set goals\, be held accountable to goals\, and solve business problems. This supportive group can help your business or career grow faster and break through barriers that are holding you back.
URL:https://focuscoworking.com/event/focus-b2b-mastermind-2-3/
CATEGORIES:Public Events
ATTACH;FMTTYPE=image/jpeg:https://focuscoworking.com/wp-content/uploads/2018/06/charles-stoppenbach-room-cropped.jpg
END:VEVENT
BEGIN:VEVENT
DTSTART;TZID=America/Chicago:20180625T190000
DTEND;TZID=America/Chicago:20180625T200000
DTSTAMP:20260422T173133
CREATED:20180618T143546Z
LAST-MODIFIED:20180618T143546Z
UID:466-1529953200-1529956800@focuscoworking.com
SUMMARY:Essential Oils for Your Healthy Lifestyle
DESCRIPTION:Education by Erin Frey-doTERRA Wellness Advocate\nCo-hosted by Julie Endl – Healthy Lifestyle Coach \nInterested in using these healing oils but not confident in just how to use them safely and effectively? This beginner class is for you! \nPure\, potent essential oils can support your wellbeing on all levels— physical\, mental/emotional and spiritual. \nDiscover their most common and impactful uses and learn which oils to get started with to experience support for your personal health goals. Sample a variety of blends and single oils\, learn basic guidelines for safe and effective use and ask questions. \nEssential oils are often safer\, faster acting\, more effective and less expensive than other options out there.
URL:https://focuscoworking.com/event/essential-oils-for-your-healthy-lifestyle-2/
CATEGORIES:Public Events
ATTACH;FMTTYPE=image/jpeg:https://focuscoworking.com/wp-content/uploads/2018/06/32644351_10212148374560753_8946161271179313152_n.jpg
END:VEVENT
BEGIN:VEVENT
DTSTART;TZID=America/Chicago:20180620T190000
DTEND;TZID=America/Chicago:20180620T200000
DTSTAMP:20260422T173133
CREATED:20180606T034129Z
LAST-MODIFIED:20180606T034129Z
UID:390-1529521200-1529524800@focuscoworking.com
SUMMARY:Tri-County Young Professionals Network Book Club
DESCRIPTION:Join the Live Video Session to keep our accountability and discuss chapters of the current book! If you would rather enjoy the company of the other people in the book club we will be at FOCUS Coworking in Jefferson!
URL:https://focuscoworking.com/event/tri-county-young-professionals-network-book-club-2/
CATEGORIES:Public Events
END:VEVENT
BEGIN:VEVENT
DTSTART;TZID=America/Chicago:20180613T190000
DTEND;TZID=America/Chicago:20180613T200000
DTSTAMP:20260422T173133
CREATED:20180605T174913Z
LAST-MODIFIED:20180605T174913Z
UID:384-1528916400-1528920000@focuscoworking.com
SUMMARY:Tri-County Young Professionals Network Book Club
DESCRIPTION:Join the Live Video Session to keep our accountability and discuss chapters of the current book! If you would rather enjoy the company of the other people in the book club we will be at FOCUS Coworking in Jefferson!
URL:https://focuscoworking.com/event/tri-county-young-professionals-network-book-club/
CATEGORIES:Public Events
END:VEVENT
BEGIN:VEVENT
DTSTART;TZID=America/Chicago:20180613T070000
DTEND;TZID=America/Chicago:20180613T201500
DTSTAMP:20260422T173133
CREATED:20180727T120839Z
LAST-MODIFIED:20180727T120839Z
UID:486-1528873200-1528920900@focuscoworking.com
SUMMARY:FOCUS Mastermind
DESCRIPTION:FOCUS Mastermind is a group for business owners\, freelancers\, entrepreneurs\, and business professionals that meets every other Wednesday. The group helps participants set goals\, be held accountable to goals\, and solve business problems. This supportive group can help your business or career grow faster and break through barriers that are holding you back.
URL:https://focuscoworking.com/event/focus-b2b-mastermind-2-2/
CATEGORIES:Public Events
ATTACH;FMTTYPE=image/jpeg:https://focuscoworking.com/wp-content/uploads/2018/06/charles-stoppenbach-room-cropped.jpg
END:VEVENT
BEGIN:VEVENT
DTSTART;TZID=America/Chicago:20180608T160000
DTEND;TZID=America/Chicago:20180608T180000
DTSTAMP:20260422T173133
CREATED:20180531T161145Z
LAST-MODIFIED:20180531T161145Z
UID:382-1528473600-1528480800@focuscoworking.com
SUMMARY:Tiki And Taco Bar & Hawaiian Shirt Contest
DESCRIPTION:4 pm Official Business Ribbon Cutting\n4—6 pm Join us for a fun Friday evening event!\nFeaturing a tiki bar\, taco bar\, tropical music and best Hawaiian Shirt Contest!!
URL:https://focuscoworking.com/event/tiki-and-taco-bar-hawaiian-shirt-contest/
CATEGORIES:Public Events
END:VEVENT
BEGIN:VEVENT
DTSTART;TZID=America/Chicago:20180608T113000
DTEND;TZID=America/Chicago:20180608T133000
DTSTAMP:20260422T173133
CREATED:20180531T161027Z
LAST-MODIFIED:20180531T161238Z
UID:380-1528457400-1528464600@focuscoworking.com
SUMMARY:LUNCH ‘N LEARN - Lean Business Model Canvas
DESCRIPTION:11:30a lunch and networking\n12:00p Lean Business Model Canvas\nKevin Kaufman brings a depth of experience working with small and medium sized businesses to his position as Director at the Small Business Development Center at UW-Whitewater. From strategic planning to financial projections to buy/sell valuation to operational excellence\, Kevin’s background as a commercial banker\, national sales manager and eight years of consulting experience will help your company define and achieve its goals. Kevin holds a Bachelor’s degree in Finance from UW-Whitewater and an MBA from UW-La Crosse.
URL:https://focuscoworking.com/event/lunch-n-learn-lean-business-model-canvas/
CATEGORIES:Public Events
END:VEVENT
BEGIN:VEVENT
DTSTART;TZID=America/Chicago:20180608T070000
DTEND;TZID=America/Chicago:20180608T080000
DTSTAMP:20260422T173133
CREATED:20180531T160725Z
LAST-MODIFIED:20180531T161304Z
UID:378-1528441200-1528444800@focuscoworking.com
SUMMARY:Business Over Breakfast
DESCRIPTION:7:00 am breakfast 7:15 am Co-owner Damon Schopen shares with us ‘What is coworking?’ Learn how this innovative idea can help you start a new business or help your business grow.
URL:https://focuscoworking.com/event/business-over-breakfast/
CATEGORIES:Public Events
END:VEVENT
BEGIN:VEVENT
DTSTART;VALUE=DATE:20180604
DTEND;VALUE=DATE:20180609
DTSTAMP:20260422T173133
CREATED:20180531T160443Z
LAST-MODIFIED:20180531T160443Z
UID:376-1528070400-1528502399@focuscoworking.com
SUMMARY:Free Coworking Week
DESCRIPTION:Monday\, June 4th through Friday\, June 8th is free coworking week at FOCUS Coworking. Drop in for a day or spend the entire week working at FOCUS Coworking. You can try out our conference rooms\, private offices\, and shared space at no charge.
URL:https://focuscoworking.com/event/free-coworking-week/
CATEGORIES:Public Events
END:VEVENT
BEGIN:VEVENT
DTSTART;TZID=America/Chicago:20180531T180000
DTEND;TZID=America/Chicago:20180531T193000
DTSTAMP:20260422T173133
CREATED:20180516T125323Z
LAST-MODIFIED:20180530T152640Z
UID:366-1527789600-1527795000@focuscoworking.com
SUMMARY:Everything You Wanted To Know About Excel But Are Afraid To Ask
DESCRIPTION:
URL:https://focuscoworking.com/event/everything-you-wanted-to-know-about-excel-but-were-afraid-to-ask/
CATEGORIES:Public Events
END:VEVENT
BEGIN:VEVENT
DTSTART;TZID=America/Chicago:20180530T070000
DTEND;TZID=America/Chicago:20180530T081500
DTSTAMP:20260422T173133
CREATED:20180225T182629Z
LAST-MODIFIED:20180331T145408Z
UID:232-1527663600-1527668100@focuscoworking.com
SUMMARY:FOCUS Mastermind
DESCRIPTION:FOUCS Mastermind is a group for business owners\, freelancers\, entrepreneurs\, and business professionals that meets twice a month. The group helps participants set goals\, be held accountable to goals\, and solve business problems. This supportive group can help your business or career grow faster and break through barriers that are holding you back.
URL:https://focuscoworking.com/event/focus-mastermind-2-2-2-2-2/
CATEGORIES:Public Events
END:VEVENT
BEGIN:VEVENT
DTSTART;TZID=America/Chicago:20180525T160000
DTEND;TZID=America/Chicago:20180525T183000
DTSTAMP:20260422T173133
CREATED:20180225T183547Z
LAST-MODIFIED:20180331T150032Z
UID:252-1527264000-1527273000@focuscoworking.com
SUMMARY:FOCUS Coworking Tour & Happy Hour
DESCRIPTION:Stop by for a tour of the space\, and learn about FOCUS Coworking. Beer\, wine\, and non-alcoholic beverages will be served. If you are unable to attend but would like to see the space schedule a tour here.
URL:https://focuscoworking.com/event/networking-happy-hour-2-2-2-2-2-2-2-2-2/
CATEGORIES:Public Events
END:VEVENT
BEGIN:VEVENT
DTSTART;TZID=America/Chicago:20180522T160000
DTEND;TZID=America/Chicago:20180522T190000
DTSTAMP:20260422T173133
CREATED:20180515T214311Z
LAST-MODIFIED:20180515T214311Z
UID:364-1527004800-1527015600@focuscoworking.com
SUMMARY:Jefferson High School Spring Art Show
DESCRIPTION:Jefferson High School art students will be showcasing their best pieces from the spring semester. You wont want to miss what these talented students have created. This free event is open to the public.
URL:https://focuscoworking.com/event/jefferson-high-school-spring-art-show/
CATEGORIES:Public Events
END:VEVENT
BEGIN:VEVENT
DTSTART;TZID=America/Chicago:20180521T190000
DTEND;TZID=America/Chicago:20180521T200000
DTSTAMP:20260422T173133
CREATED:20180516T192230Z
LAST-MODIFIED:20180516T192230Z
UID:368-1526929200-1526932800@focuscoworking.com
SUMMARY:Essential Oils for Your Healthy Lifestyle
DESCRIPTION:Education by Erin Frey-doTERRA Wellness Advocate \nInterested in using these healing oils but not confident in just how to use them safely and effectively? This beginner class is for you!  \nPure\, potent essential oils can support your wellbeing on all levels— physical\, mental/emotional and spiritual. \nDiscover their most common and impactful uses and learn which oils to get started with to experience support for your personal health goals. Sample a variety of blends and single oils\, learn basic guidelines for safe and effective use and ask questions. \nEssential oils are often safer\, faster acting\, more effective and less expensive than other options out there.
URL:https://focuscoworking.com/event/essential-oils-for-your-healthy-lifestyle/
CATEGORIES:Public Events
END:VEVENT
BEGIN:VEVENT
DTSTART;TZID=America/Chicago:20180518T160000
DTEND;TZID=America/Chicago:20180518T183000
DTSTAMP:20260422T173133
CREATED:20180225T183536Z
LAST-MODIFIED:20180331T145916Z
UID:250-1526659200-1526668200@focuscoworking.com
SUMMARY:FOCUS Coworking Tour & Happy Hour
DESCRIPTION:Stop by for a tour of the space\, and learn about FOCUS Coworking. Beer\, wine\, and non-alcoholic beverages will be served. If you are unable to attend but would like to see the space schedule a tour here.
URL:https://focuscoworking.com/event/networking-happy-hour-2-2-2-2-2-2-2-2/
CATEGORIES:Public Events
END:VEVENT
BEGIN:VEVENT
DTSTART;TZID=America/Chicago:20180516T070000
DTEND;TZID=America/Chicago:20180516T081500
DTSTAMP:20260422T173133
CREATED:20180225T182615Z
LAST-MODIFIED:20180331T145412Z
UID:230-1526454000-1526458500@focuscoworking.com
SUMMARY:FOCUS Mastermind
DESCRIPTION:FOUCS Mastermind is a group for business owners\, freelancers\, entrepreneurs\, and business professionals that meets twice a month. The group helps participants set goals\, be held accountable to goals\, and solve business problems. This supportive group can help your business or career grow faster and break through barriers that are holding you back.
URL:https://focuscoworking.com/event/focus-mastermind-2-2-2-2/
CATEGORIES:Public Events
END:VEVENT
BEGIN:VEVENT
DTSTART;TZID=America/Chicago:20180511T160000
DTEND;TZID=America/Chicago:20180511T183000
DTSTAMP:20260422T173133
CREATED:20180225T183520Z
LAST-MODIFIED:20180331T145918Z
UID:248-1526054400-1526063400@focuscoworking.com
SUMMARY:FOCUS Coworking Tour & Happy Hour
DESCRIPTION:Stop by for a tour of the space\, and learn about FOCUS Coworking. Beer\, wine\, and non-alcoholic beverages will be served. If you are unable to attend but would like to see the space schedule a tour here.
URL:https://focuscoworking.com/event/networking-happy-hour-2-2-2-2-2-2-2/
CATEGORIES:Public Events
END:VEVENT
BEGIN:VEVENT
DTSTART;TZID=America/Chicago:20180504T160000
DTEND;TZID=America/Chicago:20180504T183000
DTSTAMP:20260422T173133
CREATED:20180225T183450Z
LAST-MODIFIED:20180331T145920Z
UID:246-1525449600-1525458600@focuscoworking.com
SUMMARY:FOCUS Coworking Tour & Happy Hour
DESCRIPTION:Stop by for a tour of the space\, and learn about FOCUS Coworking. Beer\, wine\, and non-alcoholic beverages will be served. If you are unable to attend but would like to see the space schedule a tour here.
URL:https://focuscoworking.com/event/networking-happy-hour-2-2-2-2-2-2/
CATEGORIES:Public Events
END:VEVENT
BEGIN:VEVENT
DTSTART;TZID=America/Chicago:20180502T070000
DTEND;TZID=America/Chicago:20180502T081500
DTSTAMP:20260422T173133
CREATED:20180225T182605Z
LAST-MODIFIED:20180331T145416Z
UID:228-1525244400-1525248900@focuscoworking.com
SUMMARY:FOCUS Mastermind
DESCRIPTION:FOUCS Mastermind is a group for business owners\, freelancers\, entrepreneurs\, and business professionals that meets twice a month. The group helps participants set goals\, be held accountable to goals\, and solve business problems. This supportive group can help your business or career grow faster and break through barriers that are holding you back.
URL:https://focuscoworking.com/event/focus-mastermind-2-2-2/
CATEGORIES:Public Events
END:VEVENT
BEGIN:VEVENT
DTSTART;TZID=America/Chicago:20180427T160000
DTEND;TZID=America/Chicago:20180427T183000
DTSTAMP:20260422T173133
CREATED:20180225T183437Z
LAST-MODIFIED:20180331T145922Z
UID:244-1524844800-1524853800@focuscoworking.com
SUMMARY:FOCUS Coworking Tour & Happy Hour
DESCRIPTION:Stop by for a tour of the space\, and learn about FOCUS Coworking. Beer\, wine\, and non-alcoholic beverages will be served. If you are unable to attend but would like to see the space schedule a tour here.
URL:https://focuscoworking.com/event/networking-happy-hour-2-2-2-2-2/
CATEGORIES:Public Events
END:VEVENT
BEGIN:VEVENT
DTSTART;TZID=America/Chicago:20180424T180000
DTEND;TZID=America/Chicago:20180424T193000
DTSTAMP:20260422T173133
CREATED:20180225T184438Z
LAST-MODIFIED:20180331T150727Z
UID:254-1524592800-1524598200@focuscoworking.com
SUMMARY:Professional Growth: Social Media For Business
DESCRIPTION:The social media landscape is constantly changing. It can be difficult to know how to best promote your business on social media. This presentation and discussion will cover different social media platforms and how to utilize them for your business. This will be an interactive discussion where you can ask questions and share your successes with social media. \nNetworking 6:00 pm – 6:30 pm \nPresentation/Discussion 6:30 pm – 7:30 pm
URL:https://focuscoworking.com/event/professional-growth-productivity-tools/
CATEGORIES:Public Events
END:VEVENT
BEGIN:VEVENT
DTSTART;TZID=America/Chicago:20180420T160000
DTEND;TZID=America/Chicago:20180420T183000
DTSTAMP:20260422T173133
CREATED:20180225T183400Z
LAST-MODIFIED:20180331T145924Z
UID:242-1524240000-1524249000@focuscoworking.com
SUMMARY:FOCUS Coworking Tour & Happy Hour
DESCRIPTION:Stop by for a tour of the space\, and learn about FOCUS Coworking. Beer\, wine\, and non-alcoholic beverages will be served. If you are unable to attend but would like to see the space schedule a tour here.
URL:https://focuscoworking.com/event/networking-happy-hour-2-2-2-2/
CATEGORIES:Public Events
END:VEVENT
BEGIN:VEVENT
DTSTART;TZID=America/Chicago:20180418T070000
DTEND;TZID=America/Chicago:20180418T081500
DTSTAMP:20260422T173133
CREATED:20180225T182549Z
LAST-MODIFIED:20180331T145419Z
UID:226-1524034800-1524039300@focuscoworking.com
SUMMARY:FOCUS Mastermind
DESCRIPTION:FOUCS Mastermind is a group for business owners\, freelancers\, entrepreneurs\, and business professionals that meets twice a month. The group helps participants set goals\, be held accountable to goals\, and solve business problems. This supportive group can help your business or career grow faster and break through barriers that are holding you back.
URL:https://focuscoworking.com/event/focus-mastermind-2-2/
CATEGORIES:Public Events
END:VEVENT
BEGIN:VEVENT
DTSTART;TZID=America/Chicago:20180417T130000
DTEND;TZID=America/Chicago:20180417T140000
DTSTAMP:20260422T173133
CREATED:20180415T142243Z
LAST-MODIFIED:20180415T142243Z
UID:353-1523970000-1523973600@focuscoworking.com
SUMMARY:Freelancers Union Webinar: Increase Your Net Worth!
DESCRIPTION:Are you budgeting every month like a boss\, but still coming up short when it comes to your savings goals? Do you know your net worth–or do you have no idea what net worth is? Are you swimming in credit card debt? \nThis webinar\, co-hosted by Alliant\, will offer budgeting tools and asset-building tips whether you’re a seasoned freelance pro or are just getting ready to quit your day job. \nMake your money work for you. Join us for a webinar on April 17 from 2–3pm ET. \nWe’ll cover: \n• Budgeting on an irregular income\n• Knowing your net worth\n• Increasing your net worth\n• Increasing your assets\n• Decreasing your liabilities\n• Business net worth and DSCR
URL:https://focuscoworking.com/event/freelancers-union-webinar-increase-your-net-worth/
CATEGORIES:Public Events
END:VEVENT
BEGIN:VEVENT
DTSTART;TZID=America/Chicago:20180413T160000
DTEND;TZID=America/Chicago:20180413T183000
DTSTAMP:20260422T173133
CREATED:20180225T183321Z
LAST-MODIFIED:20180331T145926Z
UID:240-1523635200-1523644200@focuscoworking.com
SUMMARY:FOCUS Coworking Tour & Happy Hour
DESCRIPTION:Stop by for a tour of the space\, and learn about FOCUS Coworking. Beer\, wine\, and non-alcoholic beverages will be served. If you are unable to attend but would like to see the space schedule a tour here.
URL:https://focuscoworking.com/event/networking-happy-hour-2-2-2/
CATEGORIES:Public Events
END:VEVENT
BEGIN:VEVENT
DTSTART;TZID=America/Chicago:20180406T160000
DTEND;TZID=America/Chicago:20180406T183000
DTSTAMP:20260422T173133
CREATED:20180225T183303Z
LAST-MODIFIED:20180331T150029Z
UID:238-1523030400-1523039400@focuscoworking.com
SUMMARY:FOCUS Coworking Tour & Happy Hour
DESCRIPTION:Stop by for a tour of the space\, and learn about FOCUS Coworking. Beer\, wine\, and non-alcoholic beverages will be served. If you are unable to attend but would like to see the space schedule a tour here.
URL:https://focuscoworking.com/event/networking-happy-hour-2-2/
CATEGORIES:Public Events
END:VEVENT
BEGIN:VEVENT
DTSTART;TZID=America/Chicago:20180404T070000
DTEND;TZID=America/Chicago:20180404T081500
DTSTAMP:20260422T173133
CREATED:20180225T182311Z
LAST-MODIFIED:20180331T145423Z
UID:224-1522825200-1522829700@focuscoworking.com
SUMMARY:FOCUS Mastermind
DESCRIPTION:FOUCS Mastermind is a group for business owners\, freelancers\, entrepreneurs\, and business professionals that meets twice a month. The group helps participants set goals\, be held accountable to goals\, and solve business problems. This supportive group can help your business or career grow faster and break through barriers that are holding you back.
URL:https://focuscoworking.com/event/focus-mastermind-2/
CATEGORIES:Public Events
END:VEVENT
BEGIN:VEVENT
DTSTART;TZID=America/Chicago:20180330T160000
DTEND;TZID=America/Chicago:20180330T183000
DTSTAMP:20260422T173133
CREATED:20180225T183252Z
LAST-MODIFIED:20180331T150027Z
UID:236-1522425600-1522434600@focuscoworking.com
SUMMARY:FOCUS Coworking Tour & Happy Hour
DESCRIPTION:Stop by for a tour of the space\, and learn about FOCUS Coworking. Beer\, wine\, and non-alcoholic beverages will be served. If you are unable to attend but would like to see the space schedule a tour here.
URL:https://focuscoworking.com/event/networking-happy-hour-2/
CATEGORIES:Public Events
END:VEVENT
END:VCALENDAR