BEGIN:VCALENDAR
VERSION:2.0
PRODID:-//Focus Coworking - Jefferson, WI - ECPv6.15.20//NONSGML v1.0//EN
CALSCALE:GREGORIAN
METHOD:PUBLISH
X-WR-CALNAME:Focus Coworking - Jefferson, WI
X-ORIGINAL-URL:https://focuscoworking.com
X-WR-CALDESC:Events for Focus Coworking - Jefferson, WI
REFRESH-INTERVAL;VALUE=DURATION:PT1H
X-Robots-Tag:noindex
X-PUBLISHED-TTL:PT1H
BEGIN:VTIMEZONE
TZID:America/Chicago
BEGIN:DAYLIGHT
TZOFFSETFROM:-0600
TZOFFSETTO:-0500
TZNAME:CDT
DTSTART:20240310T080000
END:DAYLIGHT
BEGIN:STANDARD
TZOFFSETFROM:-0500
TZOFFSETTO:-0600
TZNAME:CST
DTSTART:20241103T070000
END:STANDARD
BEGIN:DAYLIGHT
TZOFFSETFROM:-0600
TZOFFSETTO:-0500
TZNAME:CDT
DTSTART:20250309T080000
END:DAYLIGHT
BEGIN:STANDARD
TZOFFSETFROM:-0500
TZOFFSETTO:-0600
TZNAME:CST
DTSTART:20251102T070000
END:STANDARD
BEGIN:DAYLIGHT
TZOFFSETFROM:-0600
TZOFFSETTO:-0500
TZNAME:CDT
DTSTART:20260308T080000
END:DAYLIGHT
BEGIN:STANDARD
TZOFFSETFROM:-0500
TZOFFSETTO:-0600
TZNAME:CST
DTSTART:20261101T070000
END:STANDARD
END:VTIMEZONE
BEGIN:VEVENT
DTSTART;TZID=America/Chicago:20250514T180000
DTEND;TZID=America/Chicago:20250514T190000
DTSTAMP:20260422T081626
CREATED:20250420T231227Z
LAST-MODIFIED:20250430T171642Z
UID:1729-1747245600-1747249200@focuscoworking.com
SUMMARY:Canva for Business: Create Eye-Catching Graphics with Ease
DESCRIPTION:Discover how to elevate your branding and marketing with Canva \nLearn how to create beautiful\, professional graphics for your business—no design experience needed! Whether you’re building social media posts\, flyers\, or presentations\, Canva makes it simple and effective. This hands-on session will walk you through the basics and share practical tips to level up your visuals.
URL:https://focuscoworking.com/event/canva-for-business-create-eye-catching-graphics-with-ease/
LOCATION:FOCUS Coworking\, 148 E Milwaukee St.\, Jefferson\, WI\, 53549\, United States
CATEGORIES:Public Events
ATTACH;FMTTYPE=image/png:https://focuscoworking.com/wp-content/uploads/2025/04/focus-canva-corrected-2.avif
ORGANIZER;CN="FOCUS Coworking":MAILTO:hello@focuscoworking.com
END:VEVENT
END:VCALENDAR