BEGIN:VCALENDAR
VERSION:2.0
PRODID:-//Focus Coworking - Jefferson, WI - ECPv6.15.20//NONSGML v1.0//EN
CALSCALE:GREGORIAN
METHOD:PUBLISH
X-WR-CALNAME:Focus Coworking - Jefferson, WI
X-ORIGINAL-URL:https://focuscoworking.com
X-WR-CALDESC:Events for Focus Coworking - Jefferson, WI
REFRESH-INTERVAL;VALUE=DURATION:PT1H
X-Robots-Tag:noindex
X-PUBLISHED-TTL:PT1H
BEGIN:VTIMEZONE
TZID:America/Chicago
BEGIN:DAYLIGHT
TZOFFSETFROM:-0600
TZOFFSETTO:-0500
TZNAME:CDT
DTSTART:20240310T080000
END:DAYLIGHT
BEGIN:STANDARD
TZOFFSETFROM:-0500
TZOFFSETTO:-0600
TZNAME:CST
DTSTART:20241103T070000
END:STANDARD
BEGIN:DAYLIGHT
TZOFFSETFROM:-0600
TZOFFSETTO:-0500
TZNAME:CDT
DTSTART:20250309T080000
END:DAYLIGHT
BEGIN:STANDARD
TZOFFSETFROM:-0500
TZOFFSETTO:-0600
TZNAME:CST
DTSTART:20251102T070000
END:STANDARD
BEGIN:DAYLIGHT
TZOFFSETFROM:-0600
TZOFFSETTO:-0500
TZNAME:CDT
DTSTART:20260308T080000
END:DAYLIGHT
BEGIN:STANDARD
TZOFFSETFROM:-0500
TZOFFSETTO:-0600
TZNAME:CST
DTSTART:20261101T070000
END:STANDARD
END:VTIMEZONE
BEGIN:VEVENT
DTSTART;TZID=America/Chicago:20250201T120000
DTEND;TZID=America/Chicago:20250201T160000
DTSTAMP:20260422T165459
CREATED:20250117T141513Z
LAST-MODIFIED:20250117T141602Z
UID:1591-1738411200-1738425600@focuscoworking.com
SUMMARY:Jefferson Downtown Chili Walk
DESCRIPTION:Warm up your winter with a fun and flavorful event! The Downtown Jefferson Chili Walk is the perfect opportunity to explore local businesses and enjoy a variety of delicious chili recipes. Stop by participating locations\, sample their unique chili creations\, and vote for your favorite. \nFOCUS Coworking is proud to be one of the stops on this year’s Chili Walk! Swing by our space at 148 E Milwaukee St. to try our special chili\, meet our team\, and learn more about what FOCUS Coworking has to offer. \nIt’s a great way to spend a winter Saturday while supporting local businesses. We can’t wait to see you there! 🌶️ \nFor more details\, visit https://www.facebook.com/share/161uRkTEFi/.
URL:https://focuscoworking.com/event/jefferson-downtown-chili-walk/
LOCATION:FOCUS Coworking\, 148 E Milwaukee St.\, Jefferson\, WI\, 53549\, United States
CATEGORIES:Public Events
ATTACH;FMTTYPE=image/jpeg:https://focuscoworking.com/wp-content/uploads/2025/01/472457929_591280290505953_4922376464527070953_n.avif
END:VEVENT
END:VCALENDAR