BEGIN:VCALENDAR
VERSION:2.0
PRODID:-//Focus Coworking - Jefferson, WI - ECPv6.15.20//NONSGML v1.0//EN
CALSCALE:GREGORIAN
METHOD:PUBLISH
X-ORIGINAL-URL:https://focuscoworking.com
X-WR-CALDESC:Events for Focus Coworking - Jefferson, WI
REFRESH-INTERVAL;VALUE=DURATION:PT1H
X-Robots-Tag:noindex
X-PUBLISHED-TTL:PT1H
BEGIN:VTIMEZONE
TZID:America/Chicago
BEGIN:DAYLIGHT
TZOFFSETFROM:-0600
TZOFFSETTO:-0500
TZNAME:CDT
DTSTART:20200308T080000
END:DAYLIGHT
BEGIN:STANDARD
TZOFFSETFROM:-0500
TZOFFSETTO:-0600
TZNAME:CST
DTSTART:20201101T070000
END:STANDARD
BEGIN:DAYLIGHT
TZOFFSETFROM:-0600
TZOFFSETTO:-0500
TZNAME:CDT
DTSTART:20210314T080000
END:DAYLIGHT
BEGIN:STANDARD
TZOFFSETFROM:-0500
TZOFFSETTO:-0600
TZNAME:CST
DTSTART:20211107T070000
END:STANDARD
BEGIN:DAYLIGHT
TZOFFSETFROM:-0600
TZOFFSETTO:-0500
TZNAME:CDT
DTSTART:20220313T080000
END:DAYLIGHT
BEGIN:STANDARD
TZOFFSETFROM:-0500
TZOFFSETTO:-0600
TZNAME:CST
DTSTART:20221106T070000
END:STANDARD
END:VTIMEZONE
BEGIN:VEVENT
DTSTART;TZID=America/Chicago:20211215T170000
DTEND;TZID=America/Chicago:20211215T193000
DTSTAMP:20260424T104326
CREATED:20211201T205634Z
LAST-MODIFIED:20211208T204915Z
UID:1265-1639587600-1639596600@focuscoworking.com
SUMMARY:FOCUS Coworking Holiday Party
DESCRIPTION:FOCUS Coworking will be holding a holiday party/networking event to celebrate the holiday season. We’ll have some snacks and beverages. This is a members only event.
URL:https://focuscoworking.com/event/focus-coworking-holiday-party/
LOCATION:WI
CATEGORIES:Members Only Events
ATTACH;FMTTYPE=image/jpeg:https://focuscoworking.com/wp-content/uploads/2021/12/Untitled-design-1.jpg
END:VEVENT
END:VCALENDAR